BEGIN:VCALENDAR
VERSION:2.0
PRODID:-//Coleman Highlands - ECPv6.15.18//NONSGML v1.0//EN
CALSCALE:GREGORIAN
METHOD:PUBLISH
X-WR-CALNAME:Coleman Highlands
X-ORIGINAL-URL:https://colemanhighlands.org
X-WR-CALDESC:Events for Coleman Highlands
REFRESH-INTERVAL;VALUE=DURATION:PT1H
X-Robots-Tag:noindex
X-PUBLISHED-TTL:PT1H
BEGIN:VTIMEZONE
TZID:America/Chicago
BEGIN:DAYLIGHT
TZOFFSETFROM:-0600
TZOFFSETTO:-0500
TZNAME:CDT
DTSTART:20230312T080000
END:DAYLIGHT
BEGIN:STANDARD
TZOFFSETFROM:-0500
TZOFFSETTO:-0600
TZNAME:CST
DTSTART:20231105T070000
END:STANDARD
BEGIN:DAYLIGHT
TZOFFSETFROM:-0600
TZOFFSETTO:-0500
TZNAME:CDT
DTSTART:20240310T080000
END:DAYLIGHT
BEGIN:STANDARD
TZOFFSETFROM:-0500
TZOFFSETTO:-0600
TZNAME:CST
DTSTART:20241103T070000
END:STANDARD
BEGIN:DAYLIGHT
TZOFFSETFROM:-0600
TZOFFSETTO:-0500
TZNAME:CDT
DTSTART:20250309T080000
END:DAYLIGHT
BEGIN:STANDARD
TZOFFSETFROM:-0500
TZOFFSETTO:-0600
TZNAME:CST
DTSTART:20251102T070000
END:STANDARD
END:VTIMEZONE
BEGIN:VEVENT
DTSTART;TZID=America/Chicago:20240706T103000
DTEND;TZID=America/Chicago:20240706T140000
DTSTAMP:20260425T152302
CREATED:20240312T163553Z
LAST-MODIFIED:20240716T172436Z
UID:10000268-1720261800-1720274400@colemanhighlands.org
SUMMARY:Independence Day Parade & Picnic
DESCRIPTION:Coleman Highlands has a fun Fourth of July planned\, including games for the kids and an appearance by KCFD! This year’s 4th of July Parade and picnic will happen from 10:30am – 2pm\, Saturday July 6th. We’ll kick off the parade at 10:30 and at the end of the parade we’ll be grillin’ and chillin’! \nParade Details\nThe parade starts at 10:30 and that corner of Coleman Road and Karnes Boulevard\, widing the full length of Coleman/West Coleman. Children\, pets\, bicycles\, musicians\, and unique vehicles are encouraged! Prizes will be given for the most festive participants. \nPicnic Details\nThe potluck picnic will be after the parade on West 33rd Terrace near the intersection of West Coleman Road. \nFood: CHNA will grill hot dogs and provide drinks\, plates & utensils\, and cold treats. Attendees should bring side dishes to share. \nSeating: Seating will not be provided– feel free to bring lawn chairs. \nThe parade will begin at 10:30 at the corner of Coleman Road and Karnes Boulevard\, winding the full length of Coleman/West Coleman Rd. \nThis annual tradition is made possible by the efforts of our volunteers and the support of our Neighborhood Association members. If you haven’t submitted dues this year\, you can do so online.
URL:https://colemanhighlands.org/event/independence-day-parade-picnic-3/
ATTACH;FMTTYPE=image/jpeg:https://colemanhighlands.org/wp-content/uploads/2024/03/4th-of-july-2024.jpeg
END:VEVENT
END:VCALENDAR