BEGIN:VCALENDAR
VERSION:2.0
PRODID:-//Coleman Highlands - ECPv6.15.18//NONSGML v1.0//EN
CALSCALE:GREGORIAN
METHOD:PUBLISH
X-ORIGINAL-URL:https://colemanhighlands.org
X-WR-CALDESC:Events for Coleman Highlands
REFRESH-INTERVAL;VALUE=DURATION:PT1H
X-Robots-Tag:noindex
X-PUBLISHED-TTL:PT1H
BEGIN:VTIMEZONE
TZID:America/Chicago
BEGIN:DAYLIGHT
TZOFFSETFROM:-0600
TZOFFSETTO:-0500
TZNAME:CDT
DTSTART:20230312T080000
END:DAYLIGHT
BEGIN:STANDARD
TZOFFSETFROM:-0500
TZOFFSETTO:-0600
TZNAME:CST
DTSTART:20231105T070000
END:STANDARD
BEGIN:DAYLIGHT
TZOFFSETFROM:-0600
TZOFFSETTO:-0500
TZNAME:CDT
DTSTART:20240310T080000
END:DAYLIGHT
BEGIN:STANDARD
TZOFFSETFROM:-0500
TZOFFSETTO:-0600
TZNAME:CST
DTSTART:20241103T070000
END:STANDARD
BEGIN:DAYLIGHT
TZOFFSETFROM:-0600
TZOFFSETTO:-0500
TZNAME:CDT
DTSTART:20250309T080000
END:DAYLIGHT
BEGIN:STANDARD
TZOFFSETFROM:-0500
TZOFFSETTO:-0600
TZNAME:CST
DTSTART:20251102T070000
END:STANDARD
END:VTIMEZONE
BEGIN:VEVENT
DTSTART;TZID=America/Chicago:20241029T170000
DTEND;TZID=America/Chicago:20241029T190000
DTSTAMP:20260425T094250
CREATED:20241021T170853Z
LAST-MODIFIED:20260317T020137Z
UID:10000285-1730221200-1730228400@colemanhighlands.org
SUMMARY:Westside Trunk-or-Treat and Fall Festival
DESCRIPTION:Bring the whole family to celebrate the season in spooktacular style! Join TACC and Westside CAN Center for an evening of festive activities and community connection. There’s something for every little ghoul\, friendly witch\, or courageous superhero! This is a drop-in event\, no registration is required.
URL:https://colemanhighlands.org/event/westside-trunk-or-treat-and-fall-festival/
LOCATION:Tony Aguirre Community Center\, 2050 W. Pennway\, Kansas City\, MO\, 64108\, United States
ATTACH;FMTTYPE=image/webp:https://colemanhighlands.org/wp-content/uploads/2024/10/FallFestivalTrickOrTreatSM.webp
GEO:39.088237;-94.59547
X-APPLE-STRUCTURED-LOCATION;VALUE=URI;X-ADDRESS=Tony Aguirre Community Center 2050 W. Pennway Kansas City MO 64108 United States;X-APPLE-RADIUS=500;X-TITLE=2050 W. Pennway:geo:-94.59547,39.088237
END:VEVENT
BEGIN:VEVENT
DTSTART;TZID=America/Chicago:20241029T180000
DTEND;TZID=America/Chicago:20241029T200000
DTSTAMP:20260425T094250
CREATED:20241021T165307Z
LAST-MODIFIED:20260317T020131Z
UID:10000283-1730224800-1730232000@colemanhighlands.org
SUMMARY:Westport Ghoul House at Westport-Roanoke Community Center
DESCRIPTION:Bring your family out to our haunted house! Children are encouraged to wear their Halloween costumes for this hair-raising event. Visitors will be sent home with chills down their spine and a goodie bag. Cost is $5/per person.
URL:https://colemanhighlands.org/event/westport-ghoul-house-at-westport-roanoke-community-center/
LOCATION:Westport-Roanoke Community Center\, 3601 Roanoke Rd\, Kansas City\, MO\, 64111\, United States
ATTACH;FMTTYPE=image/jpeg:https://colemanhighlands.org/wp-content/uploads/2024/10/Halloween-Wallpaper.jpg
END:VEVENT
END:VCALENDAR