BEGIN:VCALENDAR
VERSION:2.0
PRODID:-//Coleman Highlands - ECPv6.15.18//NONSGML v1.0//EN
CALSCALE:GREGORIAN
METHOD:PUBLISH
X-ORIGINAL-URL:https://colemanhighlands.org
X-WR-CALDESC:Events for Coleman Highlands
REFRESH-INTERVAL;VALUE=DURATION:PT1H
X-Robots-Tag:noindex
X-PUBLISHED-TTL:PT1H
BEGIN:VTIMEZONE
TZID:America/Chicago
BEGIN:DAYLIGHT
TZOFFSETFROM:-0600
TZOFFSETTO:-0500
TZNAME:CDT
DTSTART:20240310T080000
END:DAYLIGHT
BEGIN:STANDARD
TZOFFSETFROM:-0500
TZOFFSETTO:-0600
TZNAME:CST
DTSTART:20241103T070000
END:STANDARD
BEGIN:DAYLIGHT
TZOFFSETFROM:-0600
TZOFFSETTO:-0500
TZNAME:CDT
DTSTART:20250309T080000
END:DAYLIGHT
BEGIN:STANDARD
TZOFFSETFROM:-0500
TZOFFSETTO:-0600
TZNAME:CST
DTSTART:20251102T070000
END:STANDARD
BEGIN:DAYLIGHT
TZOFFSETFROM:-0600
TZOFFSETTO:-0500
TZNAME:CDT
DTSTART:20260308T080000
END:DAYLIGHT
BEGIN:STANDARD
TZOFFSETFROM:-0500
TZOFFSETTO:-0600
TZNAME:CST
DTSTART:20261101T070000
END:STANDARD
END:VTIMEZONE
BEGIN:VEVENT
DTSTART;TZID=America/Chicago:20250906T173000
DTEND;TZID=America/Chicago:20250906T213000
DTSTAMP:20260424T190842
CREATED:20250826T232648Z
LAST-MODIFIED:20250909T175709Z
UID:10000305-1757179800-1757194200@colemanhighlands.org
SUMMARY:Dance In the Park
DESCRIPTION:[vc_row][vc_column][vc_column_text css=””]City in Motion Dance Theater\, Inc. together with area Neighborhood Associations is proud to announce the 26th annual Dance in the Park! The concert will be presented on Saturday evening\, September 6\, 2025 in the tranquil setting of Roanoke Park in midtown Kansas City\, just off Karnes Blvd & Roanoke Rd. (Rain date Sunday September 7\, 2025.) \nThis FREE show kicks off at 5:30 pm a warm-up fair\, featuring local area vendors\, games and snacks\, 6:30 pm begins with a interactive group performance. Main show begins at 7 pm. Dance groups include City in Motion Dance Theater and a variety of local contemporary and ethnic dance groups. Performance is invite-only. For more information\, please contact kcdanceinthepark@gmail.com. \nBring a blanket\, picnic\, lawns chairs and the whole family! Dance in the Park annually thrills crowds of 1\,000+ audience members. This annual performance is a chance for the Roanoke neighborhood and visitors from the metropolitan region to experience an exciting performance of Kansas City’s unique dance companies and a sense of community. Dance in the Park is produced by City in Motion Dance Theater in partnership with the Coleman Highlands\, Roanoke\, Volker & West Plaza neighborhoods. We rely solely on the support of businesses\, donations and grants to produce Dance in the Park. Your sponsorship\, program advertisement\, donations and/or volunteer hours will be a clear signal that you care about our community and want to be actively involved in it! For more information about volunteering\, please contact kcdanceinthepark@gmail.com.[/vc_column_text][/vc_column][/vc_row]
URL:https://colemanhighlands.org/event/dance-in-the-park-4/
LOCATION:Roanoke Park
ATTACH;FMTTYPE=image/jpeg:https://colemanhighlands.org/wp-content/uploads/2025/08/DanceInThePArk_2025_1280x720_OPT.jpg
END:VEVENT
END:VCALENDAR