BEGIN:VCALENDAR
VERSION:2.0
PRODID:-//Coleman Highlands - ECPv6.15.18//NONSGML v1.0//EN
CALSCALE:GREGORIAN
METHOD:PUBLISH
X-WR-CALNAME:Coleman Highlands
X-ORIGINAL-URL:https://colemanhighlands.org
X-WR-CALDESC:Events for Coleman Highlands
REFRESH-INTERVAL;VALUE=DURATION:PT1H
X-Robots-Tag:noindex
X-PUBLISHED-TTL:PT1H
BEGIN:VTIMEZONE
TZID:America/Chicago
BEGIN:DAYLIGHT
TZOFFSETFROM:-0600
TZOFFSETTO:-0500
TZNAME:CDT
DTSTART:20240310T080000
END:DAYLIGHT
BEGIN:STANDARD
TZOFFSETFROM:-0500
TZOFFSETTO:-0600
TZNAME:CST
DTSTART:20241103T070000
END:STANDARD
BEGIN:DAYLIGHT
TZOFFSETFROM:-0600
TZOFFSETTO:-0500
TZNAME:CDT
DTSTART:20250309T080000
END:DAYLIGHT
BEGIN:STANDARD
TZOFFSETFROM:-0500
TZOFFSETTO:-0600
TZNAME:CST
DTSTART:20251102T070000
END:STANDARD
BEGIN:DAYLIGHT
TZOFFSETFROM:-0600
TZOFFSETTO:-0500
TZNAME:CDT
DTSTART:20260308T080000
END:DAYLIGHT
BEGIN:STANDARD
TZOFFSETFROM:-0500
TZOFFSETTO:-0600
TZNAME:CST
DTSTART:20261101T070000
END:STANDARD
END:VTIMEZONE
BEGIN:VEVENT
DTSTART;TZID=America/Chicago:20250913T170000
DTEND;TZID=America/Chicago:20250913T213000
DTSTAMP:20260424T190715
CREATED:20240312T171847Z
LAST-MODIFIED:20251009T173007Z
UID:10000270-1757782800-1757799000@colemanhighlands.org
SUMMARY:Fall Neighborhood Picnic
DESCRIPTION:[vc_row][vc_column][vc_column_text css=””]This year’s annual Fall Picnic is September 13th\, 5pm – 9:30pm\, at 32nd and West Coleman Rd. We’ll have a live band and will be providing hamburgers\, hotdogs\, and beverages — please bring a side dish! Also\, we are in need of volunteers to help with setup and teardown. Please contact Amado Tamayo to volunteer and/or coordinate any items you may be able to lend for the picnic. \nWe’re looking for neighbors who can lend us the following for the event: \n\nCoolers\nPop-up tents\n6 or 8ft folding tables for food\n\nWe’re also looking for volunteers to: \n\nHelp with setup (setup usually starts around 3pm)\nHelp with teardown (9:30pm)\n\n[/vc_column_text][/vc_column][/vc_row]
URL:https://colemanhighlands.org/event/fall-neighborhood-picnic/
ATTACH;FMTTYPE=image/jpeg:https://colemanhighlands.org/wp-content/uploads/2024/03/CHNA_FALLPICNIC_2025_1280x720.jpg
END:VEVENT
BEGIN:VEVENT
DTSTART;TZID=America/Chicago:20250913T180000
DTEND;TZID=America/Chicago:20250913T200000
DTSTAMP:20260424T190715
CREATED:20250827T200013Z
LAST-MODIFIED:20250827T200013Z
UID:10000306-1757786400-1757793600@colemanhighlands.org
SUMMARY:Mobile Music Box Concert
DESCRIPTION:[vc_row][vc_column][vc_column_text css=””]Join members of the KC Symphony\, performing a free outdoor Chamber Music concert in Roanoke Park\, weather permitting\, on a Mobile Music Box stage. Find out more on the Kansas City Symphony’s website.[/vc_column_text][/vc_column][/vc_row]
URL:https://colemanhighlands.org/event/mobile-music-box-concert/
LOCATION:Roanoke Park
ATTACH;FMTTYPE=image/jpeg:https://colemanhighlands.org/wp-content/uploads/2025/08/MobileMusicBox_2025_1280x720OPT.jpg
END:VEVENT
END:VCALENDAR