BEGIN:VCALENDAR
VERSION:2.0
PRODID:-//Coleman Highlands - ECPv6.15.18//NONSGML v1.0//EN
CALSCALE:GREGORIAN
METHOD:PUBLISH
X-ORIGINAL-URL:https://colemanhighlands.org
X-WR-CALDESC:Events for Coleman Highlands
REFRESH-INTERVAL;VALUE=DURATION:PT1H
X-Robots-Tag:noindex
X-PUBLISHED-TTL:PT1H
BEGIN:VTIMEZONE
TZID:America/Chicago
BEGIN:DAYLIGHT
TZOFFSETFROM:-0600
TZOFFSETTO:-0500
TZNAME:CDT
DTSTART:20240310T080000
END:DAYLIGHT
BEGIN:STANDARD
TZOFFSETFROM:-0500
TZOFFSETTO:-0600
TZNAME:CST
DTSTART:20241103T070000
END:STANDARD
BEGIN:DAYLIGHT
TZOFFSETFROM:-0600
TZOFFSETTO:-0500
TZNAME:CDT
DTSTART:20250309T080000
END:DAYLIGHT
BEGIN:STANDARD
TZOFFSETFROM:-0500
TZOFFSETTO:-0600
TZNAME:CST
DTSTART:20251102T070000
END:STANDARD
BEGIN:DAYLIGHT
TZOFFSETFROM:-0600
TZOFFSETTO:-0500
TZNAME:CDT
DTSTART:20260308T080000
END:DAYLIGHT
BEGIN:STANDARD
TZOFFSETFROM:-0500
TZOFFSETTO:-0600
TZNAME:CST
DTSTART:20261101T070000
END:STANDARD
END:VTIMEZONE
BEGIN:VEVENT
DTSTART;TZID=America/Chicago:20250927T150000
DTEND;TZID=America/Chicago:20250927T200000
DTSTAMP:20260424T190913
CREATED:20250911T200311Z
LAST-MODIFIED:20251009T173015Z
UID:10000309-1758985200-1759003200@colemanhighlands.org
SUMMARY:Jazz in the Valley
DESCRIPTION:[vc_row][vc_column][vc_column_text css=””] \nAbout the festival\nThis free\, music-filled evening takes place in the parking lot in front of the Cater Art Center on the corner of 33rd & Southwest Trafficway. It honors the legacy of Kansas City jazz while bringing some of today’s finest jazz talent to our campus! Jazz in the Valley is more than a festival – it is a celebration of community\, culture\, and rich heritage. \n\nFree parking will be available in the MCC garage on Pennsylvania Avenue\, between 32nd and 33rd St.\nAttendees are welcome to bring lawn chairs\, blankets\, water bottles\, or coolers (just leave the alcohol\, pets\, tobacco\, and weapons at home).\nFood trucks will be onsite serving local crowd favorites.\nIf the weather is inclement\, the event will move inside the Campus Center.\n\nPerformance Schedule\n\n\n\n\n3 p.m. – Chalis O’Neal\nChalis O’Neal is an artist and musician born and raised in Kansas City\, Missouri. O’Neal picked up the trumpet at the age of eleven and began studying music at Paseo Academy of Fine and Performing Arts. Chalis majored in Jazz Studies with a minor in Classical Trumpet under the direction of Jazz legend Bobby Watson at the University of Missouri-Kansas City. \nO’Neal’s main influences range from Wynton Marsalis\, Miles Davis\, Roy Hargrove\, Harold O’Neal to Soul and R&B. His playing style creates a soulful and creative approach to improvisation\, bringing a dynamic energy to each performance. O’Neal’s eclectic style ranges from jazz venues to theatre work with the New Theatre Restaurant performing and acting in the Broadway show of The Buddy Holly Story. O’Neal also has burlesque experience with Quixotic Cirque Nouveau. Chalis also is the lead trumpeter for the Afro futuristic band Arquesta Del SolSoul. \nO’Neal has had the opportunity to perform with artists like Bobby Watson\, Jeff ‘“Tain” Watts\, Harold O’Neal\, Tivon Pennicott\, Marcus Strickland\, Stephen Scott\, Ben Williams\, Lewis Nash\, Curtis Lundy\, Lonnie McFadden\, Dan Thomas\, Sullivan Fortner\, Lisa Henry\, and David Basse. \n\n\n\n\n\n4 p.m. – 18th & Vine Jazz Academy Collectives\nPresented by the American Jazz Museum\, the Kansas City Jazz Academy offers high-quality jazz education for middle and high school students looking to strengthen their musical skills beyond what is typically available in school music programs. Rooted in Kansas City’s rich jazz legacy\, the Academy provides a supportive environment for young musicians to develop confidence\, creativity\, and community through jazz. \n\n\n\n\n\n\n\n\n\n5 p.m. – Kansas City Kansas Community College Advanced Jazz Combo\nDirected by Brett Jackson\, the Kansas City Kansas Community College Advanced Jazz Combo includes several of the music program’s best instrumental jazz musicians. They have performed all over the Kansas City Metro and received an excellent rating at the 2024 Wichita Jazz Festival. Many of these musicians also perform professionally in the Kansas City Jazz scene. \n\n\n\n\n\n\n\n\n\n\n6 p.m. – Will Matthews\n Three-time Grammy-winning guitarist Will Matthews\, a Kansas City native\, has been the driving guitar force of the legendary Count Basie Orchestra since 1996\, carrying on the legacy of Freddie Green. Inspired early on by his grandfather’s Delta blues playing\, Matthews grew into jazz under the guidance of Kansas City mentors and the great recordings of Wes Montgomery\, George Benson\, and Kenny Burrell. \nOver his career\, Matthews has shared the stage with icons such as Nancy Wilson\, George Benson\, Chick Corea\, Wynton Marsalis\, and Patti Austin\, performing at major festivals and concert halls around the world—including for President Bill Clinton’s inauguration and First Lady Michelle Obama at the American Jazz Museum. \nHis recordings with the Basie Orchestra include multiple Grammy-winning albums (Live at Manchester Guild\, Count Plays Duke\, Basie Swings the Blues)\, and his own projects—Solo and Count on Swingin’— showcase his mastery of swing\, blues\, and soulful groove. When not touring\, Matthews leads his own ensembles\, including The Saturday Night Trio\, Mood Swings\, and the B-3 Organ Project. \n\n\n\n\n\n\n\n\n\n\n7 p.m. – Jaylen Ward Project\nDrummer\, composer\, producer\, and Audio Engineer\, has his roots in south KC\, growing up in a musical household. He has been awarded the National Down Beat award for best Jazz trio (2025) and Audio Engineering (2024). \nThroughout his career\, he has performed with artists such as Bobby Watson\, Logan Richardson\, Tia Fuller\, Harold “Spike” Bonhart of the Four Tops\, Lonnie Mcfadden\, Tivon Pennicott\, Sean Jones\, Isaiah Colier and the Chosen Few\, Ben Vangelder\, Adam Larson\, Peter Schlamb\, Eddie Moore\, Dominique Sanders\, Lynn Seaton\, and many more. \n\n\n\n[/vc_column_text][/vc_column][/vc_row]
URL:https://colemanhighlands.org/event/jazz-in-the-valley/
LOCATION:Penn Valley Community College\, 3201 Southwest Trfy\, Kansas City\, MO\, 64111\, United States
ATTACH;FMTTYPE=image/jpeg:https://colemanhighlands.org/wp-content/uploads/2025/09/Ward_Jaylen_web.jpg
GEO:39.0700212;-94.5927549
X-APPLE-STRUCTURED-LOCATION;VALUE=URI;X-ADDRESS=Penn Valley Community College 3201 Southwest Trfy Kansas City MO 64111 United States;X-APPLE-RADIUS=500;X-TITLE=3201 Southwest Trfy:geo:-94.5927549,39.0700212
END:VEVENT
END:VCALENDAR