BEGIN:VCALENDAR
VERSION:2.0
PRODID:-//Coleman Highlands - ECPv6.15.18//NONSGML v1.0//EN
CALSCALE:GREGORIAN
METHOD:PUBLISH
X-ORIGINAL-URL:https://colemanhighlands.org
X-WR-CALDESC:Events for Coleman Highlands
REFRESH-INTERVAL;VALUE=DURATION:PT1H
X-Robots-Tag:noindex
X-PUBLISHED-TTL:PT1H
BEGIN:VTIMEZONE
TZID:America/Chicago
BEGIN:DAYLIGHT
TZOFFSETFROM:-0600
TZOFFSETTO:-0500
TZNAME:CDT
DTSTART:20240310T080000
END:DAYLIGHT
BEGIN:STANDARD
TZOFFSETFROM:-0500
TZOFFSETTO:-0600
TZNAME:CST
DTSTART:20241103T070000
END:STANDARD
BEGIN:DAYLIGHT
TZOFFSETFROM:-0600
TZOFFSETTO:-0500
TZNAME:CDT
DTSTART:20250309T080000
END:DAYLIGHT
BEGIN:STANDARD
TZOFFSETFROM:-0500
TZOFFSETTO:-0600
TZNAME:CST
DTSTART:20251102T070000
END:STANDARD
BEGIN:DAYLIGHT
TZOFFSETFROM:-0600
TZOFFSETTO:-0500
TZNAME:CDT
DTSTART:20260308T080000
END:DAYLIGHT
BEGIN:STANDARD
TZOFFSETFROM:-0500
TZOFFSETTO:-0600
TZNAME:CST
DTSTART:20261101T070000
END:STANDARD
END:VTIMEZONE
BEGIN:VEVENT
DTSTART;VALUE=DATE:20251011
DTEND;VALUE=DATE:20251012
DTSTAMP:20260424T174341
CREATED:20250908T160945Z
LAST-MODIFIED:20260317T020055Z
UID:10000308-1760140800-1760227199@colemanhighlands.org
SUMMARY:Around the World Fall Porch Parties
DESCRIPTION:[vc_row][vc_column][vc_column_text css=””]This annual (usually) event\, started by neighbor Amy Bhesania\, celebrates the diversity of our neighborhood. Each year\, four homes volunteer to open up their porches (or sometimes driveways\, backyards\, etc) to the neighborhood as hosts of roving culinary festivities. Hosts serve light snacks and a signature beverage based on the cuisine of a country of their choosing. \nWe’ve had Germany\, Greece\, Viet Nam\, France\, Mexico\, England and many other countries represented for past porch parties. Please stay tuned over the coming weeks for announcements on participating homes\, start and end times\, and countries represented for this year. \nHope to see you there![/vc_column_text][/vc_column][/vc_row]
URL:https://colemanhighlands.org/event/around-the-world-fall-porch-parties/
ATTACH;FMTTYPE=image/jpeg:https://colemanhighlands.org/wp-content/uploads/2025/09/InternationalFlags.jpg
END:VEVENT
END:VCALENDAR