BEGIN:VCALENDAR
VERSION:2.0
PRODID:-//Coleman Highlands - ECPv6.15.18//NONSGML v1.0//EN
CALSCALE:GREGORIAN
METHOD:PUBLISH
X-WR-CALNAME:Coleman Highlands
X-ORIGINAL-URL:https://colemanhighlands.org
X-WR-CALDESC:Events for Coleman Highlands
REFRESH-INTERVAL;VALUE=DURATION:PT1H
X-Robots-Tag:noindex
X-PUBLISHED-TTL:PT1H
BEGIN:VTIMEZONE
TZID:UTC
BEGIN:STANDARD
TZOFFSETFROM:+0000
TZOFFSETTO:+0000
TZNAME:UTC
DTSTART:20140101T000000
END:STANDARD
END:VTIMEZONE
BEGIN:VEVENT
DTSTART;TZID=UTC:20190704T103000
DTEND;TZID=UTC:20190704T140000
DTSTAMP:20260425T095916
CREATED:20190331T015015Z
LAST-MODIFIED:20190331T015015Z
UID:10000199-1562236200-1562248800@colemanhighlands.org
SUMMARY:4th of July Parade & Picnic
DESCRIPTION:
URL:https://colemanhighlands.org/event/4th-of-july-parade-picnic/
END:VEVENT
BEGIN:VEVENT
DTSTART;TZID=UTC:20190622T070000
DTEND;TZID=UTC:20190622T120000
DTSTAMP:20260425T095916
CREATED:20190331T014808Z
LAST-MODIFIED:20190331T014808Z
UID:10000127-1561186800-1561204800@colemanhighlands.org
SUMMARY:Spring Dumpster Day
DESCRIPTION:
URL:https://colemanhighlands.org/event/spring-dumpster-day/
END:VEVENT
BEGIN:VEVENT
DTSTART;TZID=UTC:20190608T080000
DTEND;TZID=UTC:20190608T140000
DTSTAMP:20260425T095916
CREATED:20190514T031629Z
LAST-MODIFIED:20190514T031629Z
UID:10000201-1559980800-1560002400@colemanhighlands.org
SUMMARY:Neighborhood Garage Sale
DESCRIPTION:
URL:https://colemanhighlands.org/event/neighborhood-garage-sale-3/
END:VEVENT
BEGIN:VEVENT
DTSTART;TZID=UTC:20181224T080000
DTEND;TZID=UTC:20181224T120000
DTSTAMP:20260425T095916
CREATED:20181127T041422Z
LAST-MODIFIED:20181127T041554Z
UID:10000126-1545638400-1545652800@colemanhighlands.org
SUMMARY:2018 Christmas Eve Luminaria
DESCRIPTION:Join the fun at 8AM on the 24th in the Busch’s garage on the 34th Street hill.  We’ll have coffee to warm your insides while we prep and place the luminaria around the neighborhood.  If you have a pickup truck\, we’d love to have your help delivering luminaria!
URL:https://colemanhighlands.org/event/2018-christmas-eve-luminaria/
END:VEVENT
BEGIN:VEVENT
DTSTART;TZID=UTC:20181018T183000
DTEND;TZID=UTC:20181018T200000
DTSTAMP:20260425T095916
CREATED:20180917T184117Z
LAST-MODIFIED:20180917T184117Z
UID:10000125-1539887400-1539892800@colemanhighlands.org
SUMMARY:Annual Neighborhood Meeting
DESCRIPTION:
URL:https://colemanhighlands.org/event/annual-neighborhood-meeting-2/
LOCATION:Westport-Roanoke Community Center\, 3601 Roanoke Rd\, Kansas City\, MO\, 64111\, United States
END:VEVENT
BEGIN:VEVENT
DTSTART;TZID=UTC:20180929T170000
DTEND;TZID=UTC:20180929T220000
DTSTAMP:20260425T095916
CREATED:20180827T212132Z
LAST-MODIFIED:20180827T212132Z
UID:10000123-1538240400-1538258400@colemanhighlands.org
SUMMARY:Annual Picnic
DESCRIPTION:
URL:https://colemanhighlands.org/event/annual-picnic/
END:VEVENT
BEGIN:VEVENT
DTSTART;TZID=UTC:20180922T070000
DTEND;TZID=UTC:20180922T120000
DTSTAMP:20260425T095916
CREATED:20180827T212057Z
LAST-MODIFIED:20180827T212057Z
UID:10000122-1537599600-1537617600@colemanhighlands.org
SUMMARY:Dumpster Day
DESCRIPTION:
URL:https://colemanhighlands.org/event/dumpster-day-3/
END:VEVENT
BEGIN:VEVENT
DTSTART;TZID=UTC:20180915T080000
DTEND;TZID=UTC:20180915T130000
DTSTAMP:20260425T095916
CREATED:20180827T212221Z
LAST-MODIFIED:20180827T212221Z
UID:10000124-1536998400-1537016400@colemanhighlands.org
SUMMARY:Neighborhood Garage Sale
DESCRIPTION:
URL:https://colemanhighlands.org/event/neighborhood-garage-sale-2/
END:VEVENT
BEGIN:VEVENT
DTSTART;TZID=UTC:20180908T180000
DTEND;TZID=UTC:20180908T210000
DTSTAMP:20260425T095916
CREATED:20180827T211934Z
LAST-MODIFIED:20180827T211934Z
UID:10000121-1536429600-1536440400@colemanhighlands.org
SUMMARY:Dance in the Park
DESCRIPTION:
URL:https://colemanhighlands.org/event/dance-in-the-park-3/
END:VEVENT
BEGIN:VEVENT
DTSTART;TZID=UTC:20171021T080000
DTEND;TZID=UTC:20171021T120000
DTSTAMP:20260425T095916
CREATED:20170517T094723Z
LAST-MODIFIED:20170517T094723Z
UID:10000198-1508572800-1508587200@colemanhighlands.org
SUMMARY:Dumpster Day
DESCRIPTION:
URL:https://colemanhighlands.org/event/dumpster-day-2/
END:VEVENT
BEGIN:VEVENT
DTSTART;TZID=UTC:20170930T170000
DTEND;TZID=UTC:20170930T220000
DTSTAMP:20260425T095916
CREATED:20170906T054003Z
LAST-MODIFIED:20170906T054034Z
UID:10000119-1506790800-1506808800@colemanhighlands.org
SUMMARY:RESCHEDULED Annual Coleman Highlands Neighborhood Picnic
DESCRIPTION:@ 33rd Terrace & Coleman.  Come by at 3PM to help set up for the fun (or stay late and help tear down!)
URL:https://colemanhighlands.org/event/rescheduled-annual-coleman-highlands-neighborhood-picnic/
END:VEVENT
BEGIN:VEVENT
DTSTART;TZID=UTC:20170923T170000
DTEND;TZID=UTC:20170923T230000
DTSTAMP:20260425T095916
CREATED:20170517T094638Z
LAST-MODIFIED:20170906T053720Z
UID:10000197-1506186000-1506207600@colemanhighlands.org
SUMMARY:Annual Neighborhood Picnic POSTPONED to 9/30
DESCRIPTION:
URL:https://colemanhighlands.org/event/annual-neighborhood-picnic/
END:VEVENT
BEGIN:VEVENT
DTSTART;TZID=UTC:20170909T183000
DTEND;TZID=UTC:20170909T210000
DTSTAMP:20260425T095916
CREATED:20170906T060257Z
LAST-MODIFIED:20170906T060257Z
UID:10000120-1504981800-1504990800@colemanhighlands.org
SUMMARY:Dance in the Park
DESCRIPTION:DITP_Cityinmotion_ 2017 poster final
URL:https://colemanhighlands.org/event/dance-in-the-park-2/
END:VEVENT
BEGIN:VEVENT
DTSTART;TZID=UTC:20170819T200000
DTEND;TZID=UTC:20170819T220000
DTSTAMP:20260425T095916
CREATED:20170517T094358Z
LAST-MODIFIED:20170803T230359Z
UID:10000195-1503172800-1503180000@colemanhighlands.org
SUMMARY:Movie in the Park POSTPONED - new date TBD
DESCRIPTION:
URL:https://colemanhighlands.org/event/movie-in-the-park-2/
END:VEVENT
BEGIN:VEVENT
DTSTART;TZID=UTC:20170704T103000
DTEND;TZID=UTC:20170704T150000
DTSTAMP:20260425T095916
CREATED:20170517T094514Z
LAST-MODIFIED:20210307T053906Z
UID:10000196-1499164200-1499180400@colemanhighlands.org
SUMMARY:July 4th Parade & Picnic
DESCRIPTION:
URL:https://colemanhighlands.org/event/july-4th-parade-picnic/
END:VEVENT
BEGIN:VEVENT
DTSTART;TZID=UTC:20170610T200000
DTEND;TZID=UTC:20170610T220000
DTSTAMP:20260425T095916
CREATED:20170517T094220Z
LAST-MODIFIED:20170517T094220Z
UID:10000194-1497124800-1497132000@colemanhighlands.org
SUMMARY:Movie in the Park
DESCRIPTION:
URL:https://colemanhighlands.org/event/movie-in-the-park/
END:VEVENT
BEGIN:VEVENT
DTSTART;TZID=UTC:20170520T080000
DTEND;TZID=UTC:20170520T120000
DTSTAMP:20260425T095916
CREATED:20170517T093935Z
LAST-MODIFIED:20170517T095633Z
UID:10000193-1495267200-1495281600@colemanhighlands.org
SUMMARY:Dumpster Day 8am-12pm
DESCRIPTION:
URL:https://colemanhighlands.org/event/dumpster-day-8-12/
END:VEVENT
BEGIN:VEVENT
DTSTART;TZID=UTC:20161105T090000
DTEND;TZID=UTC:20161105T103000
DTSTAMP:20260425T095916
CREATED:20161025T072018Z
LAST-MODIFIED:20161029T074402Z
UID:10000192-1478336400-1478341800@colemanhighlands.org
SUMMARY:Annual Neighborhood Meeting
DESCRIPTION:Coleman Highlands residents are welcome and encouraged to join the Neighborhood Association Board at the Annual Neighborhood Meeting. \nWe will be welcoming 2 speakers this year: Jolie Justus\, Councilwoman 4th District\, and representatives from Dean Realty (Coleman Crest development).  Each guest will share information and answer questions. \n 
URL:https://colemanhighlands.org/event/annual-neighborhood-meeting/
LOCATION:Westport-Roanoke Community Center\, 3601 Roanoke Rd\, Kansas City\, MO\, 64111\, United States
ATTACH;FMTTYPE=image/jpeg:https://colemanhighlands.org/wp-content/uploads/2016/10/CH-Annual-Meeting.jpg
END:VEVENT
BEGIN:VEVENT
DTSTART;VALUE=DATE:20160704
DTEND;VALUE=DATE:20160705
DTSTAMP:20260425T095916
CREATED:20160502T232525Z
LAST-MODIFIED:20160502T232525Z
UID:10000191-1467590400-1467676799@colemanhighlands.org
SUMMARY:July 4th Picnic
DESCRIPTION:
URL:https://colemanhighlands.org/event/july-4th-picnic/
LOCATION:Parade and Picnic Location\, 3300 W. Coleman Rd\, Kansas City\, MO\, 64111\, United States
ATTACH;FMTTYPE=image/jpeg:https://colemanhighlands.org/wp-content/uploads/2013/07/fireworks.jpg
END:VEVENT
BEGIN:VEVENT
DTSTART;TZID=UTC:20160514T080000
DTEND;TZID=UTC:20160514T120000
DTSTAMP:20260425T095916
CREATED:20160414T052445Z
LAST-MODIFIED:20160501T202253Z
UID:10000190-1463212800-1463227200@colemanhighlands.org
SUMMARY:Neighborhood Garage Sale
DESCRIPTION:The Coleman Highlands Neighborhood Garage Sale will be Saturday morning\, May 14th.\n\nPlease sign up here if you plan on having a garage sale this year.\n\nThank you\,\nAnna D.
URL:https://colemanhighlands.org/event/neighborhood-garage-sale/
END:VEVENT
BEGIN:VEVENT
DTSTART;TZID=UTC:20160507T070000
DTEND;TZID=UTC:20160507T120000
DTSTAMP:20260425T095916
CREATED:20160414T050752Z
LAST-MODIFIED:20160414T051348Z
UID:10000189-1462604400-1462622400@colemanhighlands.org
SUMMARY:Dumpster Day Spring 2016
DESCRIPTION:[threecol_one] \nFrom 7 AM – Noon\, Saturday May 7th\, four dumpsters will be available to neighborhood residents.  Two will be designated for trash and two designated for yard waste.\nLOCATION\nDumpster locations are still being determined \n[/threecol_one] \n[threecol_one] \nPROHIBITED ITEMS\n\nTires\nHousehold Hazardous Waste (paint\, oil\, chemicals\, pesticides)\nWater Heaters\nFlourescent Lights (including CFLs)\nRefrigerators\nE-Waste (monitors\, computers\, household electronic items with internal compornents like mercury and other heavy metals)\nPlastic bags are not permitted in the leaf and brush dumpsters\n\n[/threecol_one] \n[threecol_one_last] \nREMEMBER\n\nSign in with a volunteer.\nSet Potentially reusable items and scrap metal on the curb next to trash dumpsters for our local scrappers.\nRECYCLE CARDBOARD AT THE CURB. Don’t bring it to the dumpster\, please.\n\n[/threecol_one_last]
URL:https://colemanhighlands.org/event/dumpster-day-spring-2016/
END:VEVENT
BEGIN:VEVENT
DTSTART;TZID=UTC:20160420T183000
DTEND;TZID=UTC:20160420T200000
DTSTAMP:20260425T095916
CREATED:20151223T020659Z
LAST-MODIFIED:20151223T020659Z
UID:10000188-1461177000-1461182400@colemanhighlands.org
SUMMARY:Monthly Neighborhood Association Meeting
DESCRIPTION:Every third Wednesday of the month the Coleman Highlands Neighborhood Association meets to discuss neighborhood issues\, plan events\, and coordinate projects.
URL:https://colemanhighlands.org/event/monthly-neighborhood-association-meeting-10/
ATTACH;FMTTYPE=image/jpeg:https://colemanhighlands.org/wp-content/uploads/2015/12/iStock_000076421927_SM.jpg
END:VEVENT
BEGIN:VEVENT
DTSTART;TZID=UTC:20160316T183000
DTEND;TZID=UTC:20160316T200000
DTSTAMP:20260425T095916
CREATED:20151223T020242Z
LAST-MODIFIED:20151223T020242Z
UID:10000187-1458153000-1458158400@colemanhighlands.org
SUMMARY:Monthly Neighborhood Association Meeting
DESCRIPTION:Every third Wednesday of the month the Coleman Highlands Neighborhood Association meets to discuss neighborhood issues\, plan events\, and coordinate projects.
URL:https://colemanhighlands.org/event/monthly-neighborhood-association-meeting-9/
ATTACH;FMTTYPE=image/jpeg:https://colemanhighlands.org/wp-content/uploads/2015/12/iStock_000020259753_SM.jpg
END:VEVENT
BEGIN:VEVENT
DTSTART;TZID=UTC:20160217T183000
DTEND;TZID=UTC:20160217T200000
DTSTAMP:20260425T095916
CREATED:20151223T020102Z
LAST-MODIFIED:20151223T020102Z
UID:10000186-1455733800-1455739200@colemanhighlands.org
SUMMARY:Monthly Neighborhood Association Meeting
DESCRIPTION:Every third Wednesday of the month the Coleman Highlands Neighborhood Association meets to discuss neighborhood issues\, plan events\, and coordinate projects.
URL:https://colemanhighlands.org/event/monthly-neighborhood-association-meeting-8/
ATTACH;FMTTYPE=image/jpeg:https://colemanhighlands.org/wp-content/uploads/2015/12/iStock_000046037322_SM.jpg
END:VEVENT
BEGIN:VEVENT
DTSTART;TZID=UTC:20160120T183000
DTEND;TZID=UTC:20160120T200000
DTSTAMP:20260425T095916
CREATED:20151223T015929Z
LAST-MODIFIED:20151223T020636Z
UID:10000185-1453314600-1453320000@colemanhighlands.org
SUMMARY:Monthly Neighborhood Association Meeting
DESCRIPTION:Every third Wednesday of the month the Coleman Highlands Neighborhood Association meets to discuss neighborhood issues\, plan events\, and coordinate projects.
URL:https://colemanhighlands.org/event/monthly-neighborhood-association-meeting-5/
ATTACH;FMTTYPE=image/jpeg:https://colemanhighlands.org/wp-content/uploads/2015/12/CHNA_Meetingimg_SM.jpg
END:VEVENT
BEGIN:VEVENT
DTSTART;TZID=UTC:20151224T083000
DTEND;TZID=UTC:20151224T100000
DTSTAMP:20260425T095916
CREATED:20151222T204355Z
LAST-MODIFIED:20151223T011759Z
UID:10000184-1450945800-1450951200@colemanhighlands.org
SUMMARY:Christmas Eve Luminaria
DESCRIPTION:As in the past\, we will meet at the driveway of Scott and Ingrid Busch – 3400 Karnes at about 8:30 am\,December 24.  We have 1600 candles\, 50 bags of sand and as many bags to fill and distribute.  Coffee and donuts will be on hand.\n\nThis year we will have plenty of sand.  We will ask for one more step in our process – one of pulling the wick on the candle up as the candle is slipped into the bag.\n\nI will have a few plastic tarps for vans and trucks in the hope of keeping the bags dry and minimizing mess in vehicles.\n\nYoung people are welcome to help\, however we will only have adults placing luminary bags on the trafficway and around the Hospice House.\n\nThose placing the bags are asked to also set the candle in a vertical position.  This takes a little longer\, but it will be a big help to those who will be lighting the candles.\n\nAt 4:30 pm we will need volunteers to light the candles.  Mr. Allen – candle lighting marathon man will not be available for lighting.  We will need at least two people extra to make up for his absence.\n\nI recommend anyone lighting candles should purchase two propane fire lighting devices  for each person lighting.  Rationale on this is to place one against your body to keep it warm and switch them as the temperature gets cold enough to diminish the propane flame.\n\nOnce the task is complete and the candles lit – I wish all to sit back and enjoy this work of art in the best manner possible.\n\nI look forward to seeing you all\, and a great thanks to Scott and Ingrid for allowing us use of their drive and garage.
URL:https://colemanhighlands.org/event/christmas-eve-luminaria/
LOCATION:Scott and Ingrid Busch’s House\, 3400 Karnes Blvd\, Kansas City\, MO\, United States
ATTACH;FMTTYPE=image/jpeg:https://colemanhighlands.org/wp-content/uploads/2015/12/doc50c1625b02d327816576511.jpg
END:VEVENT
BEGIN:VEVENT
DTSTART;VALUE=DATE:20151214
DTEND;VALUE=DATE:20151215
DTSTAMP:20260425T095916
CREATED:20151106T223908Z
LAST-MODIFIED:20151106T223908Z
UID:10000181-1450051200-1450137599@colemanhighlands.org
SUMMARY:Curbside Leaf and Brush Pickup
DESCRIPTION:Curbside Leaf and Brush Collection Rules:\n\nSacks and bundles should be placed at the curb by 7:00 a.m. on the regularly-scheduled trash day.\nNo more than 20 sacks and bundles per household.\nSacks and bundles must not weigh more than 40 pounds each.\nUse only paper lawn debris sacks. No plastic bags.\nIf you seal the sacks\, use masking tape only; do not use plastic or duct tape.\nNo grass clippings. No trash.\nAll branches must be bundled. Branches must not be more than 3 inches in diameter.\nBundles of branches must not be more than 2 feet in diameter and not more than 4 feet long.\nUse twine or jute rope to tie bundles; do not use wire or plastic tape.\nIf wet weather is forecast\, cover sacks and bundles with clear plastic.\n\nIf sacks and bundles are not collected on the scheduled trash day\, residents must call the 311 Call Center within 24 hours. For questions or to report service-related issues\, please call 311 or 816-513-1313.
URL:https://colemanhighlands.org/event/curbside-leaf-and-brush-pickup-2/
ATTACH;FMTTYPE=image/jpeg:https://colemanhighlands.org/wp-content/uploads/2015/11/PileofLeaves.jpg
END:VEVENT
BEGIN:VEVENT
DTSTART;VALUE=DATE:20151116
DTEND;VALUE=DATE:20151117
DTSTAMP:20260425T095916
CREATED:20151106T223351Z
LAST-MODIFIED:20151106T224359Z
UID:10000180-1447632000-1447718399@colemanhighlands.org
SUMMARY:Curbside Leaf and Brush Pickup
DESCRIPTION:Curbside Leaf and Brush Collection Rules:\n\nSacks and bundles should be placed at the curb by 7:00 a.m. on the regularly-scheduled trash day.\nNo more than 20 sacks and bundles per household.\nSacks and bundles must not weigh more than 40 pounds each.\nUse only paper lawn debris sacks. No plastic bags.\nIf you seal the sacks\, use masking tape only; do not use plastic or duct tape.\nNo grass clippings. No trash.\nAll branches must be bundled. Branches must not be more than 3 inches in diameter.\nBundles of branches must not be more than 2 feet in diameter and not more than 4 feet long.\nUse twine or jute rope to tie bundles; do not use wire or plastic tape.\nIf wet weather is forecast\, cover sacks and bundles with clear plastic.\n\nIf sacks and bundles are not collected on the scheduled trash day\, residents must call the 311 Call Center within 24 hours. For questions or to report service-related issues\, please call 311 or 816-513-1313.
URL:https://colemanhighlands.org/event/curbside-leaf-and-brush-pickup/
ATTACH;FMTTYPE=image/jpeg:https://colemanhighlands.org/wp-content/uploads/2015/03/1024px-Leaf_rake_and_leaves.jpg
END:VEVENT
BEGIN:VEVENT
DTSTART;TZID=UTC:20151111T100000
DTEND;TZID=UTC:20151111T170000
DTSTAMP:20260425T095916
CREATED:20151106T225412Z
LAST-MODIFIED:20151106T225412Z
UID:10000182-1447236000-1447261200@colemanhighlands.org
SUMMARY:Veterans Day Public Ceremony
DESCRIPTION:As the commemoration of World War I Centennial continues\, there is no place more fitting to recognize and honor those who have served their country on Veterans Day than at the National World War I Museum and Memorial. Join the Museum in recognizing veterans on this special day as admission is free to the public courtesy of Jackson County Executive and Jackson County Legislature. A public ceremony featuring dignitaries occurs at 10 a.m. with the Museum partnering with Disabled American Veterans/Red Racks Thrift Stores for a donation drive from 9 a.m. – 3 p.m.
URL:https://colemanhighlands.org/event/veterans-day-public-ceremony/
LOCATION:National World War I Museum and Memorial\, 100 W 26th St.\, Kansas City\, MO\, 64108\, United States
ATTACH;FMTTYPE=image/jpeg:https://colemanhighlands.org/wp-content/uploads/2015/11/Flag-poster.jpg
END:VEVENT
BEGIN:VEVENT
DTSTART;TZID=UTC:20151107T090000
DTEND;TZID=UTC:20151107T120000
DTSTAMP:20260425T095916
CREATED:20151106T222949Z
LAST-MODIFIED:20151106T230612Z
UID:10000179-1446886800-1446897600@colemanhighlands.org
SUMMARY:Annual Meeting
DESCRIPTION:This year’s annual meeting will be Saturday morning\, November 7th at 9AM in the Westport-Roanoke Community Center gymnasium.\nThe neighborhood association will be hosting 2 guest speakers about neighborhood safety and nearby midtown developments.\n9:00 AM\nOfficer Andy Hamil\, Central Patrol Division Community Interaction Officer. Officer Hamil will be speaking about safety concerns and the best ways to ensure community patrolling (spoiler alert: report all crime to the police by calling 911 – they won’t know about it unless we report it and if we aren’t willing to report it\, they know we wouldn’t put forth the effort to support prosecution if suspects are caught).\n\n9:30 AM\n\nDennis Bradley\, Principal with b+a architecture. Mr. Bradley is the principal architect of the proposed MGE redevelopment on Broadway (34th-35th) called the Midtown Plaza.  He will be conducting an informational presentation on the proposed development\, which centers upon upscale\, high-density housing.  Check out some info here before the meeting: www.baarchitecture.com/projects/midtown-plaza/15BRO\n10:00 AM\n\nBoard presentation on summary of annual activities and finances. We’re also looking for new board members to join our monthly discussions and help support the many things that make the neighborhood great!\n\nCoffee and donuts will be served.  Please spread the word to those neighbors who may not be on the email list.\n\nSee you all there!
URL:https://colemanhighlands.org/event/annual-meeting/
LOCATION:Westport-Roanoke Community Center\, 3601 Roanoke Rd\, Kansas City\, MO\, 64111\, United States
ATTACH;FMTTYPE=image/jpeg:https://colemanhighlands.org/wp-content/uploads/2015/10/community-meeting.jpg
END:VEVENT
END:VCALENDAR