BEGIN:VCALENDAR
VERSION:2.0
PRODID:-//Coleman Highlands - ECPv6.15.18//NONSGML v1.0//EN
CALSCALE:GREGORIAN
METHOD:PUBLISH
X-ORIGINAL-URL:https://colemanhighlands.org
X-WR-CALDESC:Events for Coleman Highlands
REFRESH-INTERVAL;VALUE=DURATION:PT1H
X-Robots-Tag:noindex
X-PUBLISHED-TTL:PT1H
BEGIN:VTIMEZONE
TZID:America/Chicago
BEGIN:DAYLIGHT
TZOFFSETFROM:-0600
TZOFFSETTO:-0500
TZNAME:CDT
DTSTART:20250309T080000
END:DAYLIGHT
BEGIN:STANDARD
TZOFFSETFROM:-0500
TZOFFSETTO:-0600
TZNAME:CST
DTSTART:20251102T070000
END:STANDARD
BEGIN:DAYLIGHT
TZOFFSETFROM:-0600
TZOFFSETTO:-0500
TZNAME:CDT
DTSTART:20260308T080000
END:DAYLIGHT
BEGIN:STANDARD
TZOFFSETFROM:-0500
TZOFFSETTO:-0600
TZNAME:CST
DTSTART:20261101T070000
END:STANDARD
BEGIN:DAYLIGHT
TZOFFSETFROM:-0600
TZOFFSETTO:-0500
TZNAME:CDT
DTSTART:20270314T080000
END:DAYLIGHT
BEGIN:STANDARD
TZOFFSETFROM:-0500
TZOFFSETTO:-0600
TZNAME:CST
DTSTART:20271107T070000
END:STANDARD
END:VTIMEZONE
BEGIN:VEVENT
DTSTART;TZID=America/Chicago:20260819T183000
DTEND;TZID=America/Chicago:20260819T193000
DTSTAMP:20260425T065409
CREATED:20260316T161322Z
LAST-MODIFIED:20260317T173358Z
UID:10000316-1787164200-1787167800@colemanhighlands.org
SUMMARY:August 2026 CHNA Meeting
DESCRIPTION:[vc_row][vc_column][vc_column_text css=””]This month’s meeting will be held at the Westport-Roanoke Community Center from 6:30 – 7:30 pm. \nAll are welcome to attend! Questions? Contact Board President Javier Perez.[/vc_column_text][/vc_column][/vc_row]
URL:https://colemanhighlands.org/event/august-2026-chna-meeting/
LOCATION:Westport-Roanoke Community Center\, 3601 Roanoke Rd\, Kansas City\, MO\, 64111\, United States
ATTACH;FMTTYPE=image/jpeg:https://colemanhighlands.org/wp-content/uploads/2026/03/NKNs_f_rste_styre_1904.jpg
END:VEVENT
BEGIN:VEVENT
DTSTART;TZID=America/Chicago:20260916T183000
DTEND;TZID=America/Chicago:20260916T193000
DTSTAMP:20260425T065409
CREATED:20260316T161326Z
LAST-MODIFIED:20260317T173409Z
UID:10000317-1789583400-1789587000@colemanhighlands.org
SUMMARY:September 2026 CHNA Meeting
DESCRIPTION:[vc_row][vc_column][vc_column_text css=””]This month’s meeting will be held at the Westport-Roanoke Community Center from 6:30 – 7:30 pm. \nAll are welcome to attend! Questions? Contact Board President Javier Perez.[/vc_column_text][/vc_column][/vc_row]
URL:https://colemanhighlands.org/event/september-2026-chna-meeting/
LOCATION:Westport-Roanoke Community Center\, 3601 Roanoke Rd\, Kansas City\, MO\, 64111\, United States
ATTACH;FMTTYPE=image/jpeg:https://colemanhighlands.org/wp-content/uploads/2026/03/Elvis_Presley_Delbert_Sonny_West_and_Jerry_Schilling_meeting_Richard_Nixon.jpg
END:VEVENT
BEGIN:VEVENT
DTSTART;TZID=America/Chicago:20261021T183000
DTEND;TZID=America/Chicago:20261021T193000
DTSTAMP:20260425T065409
CREATED:20260316T161406Z
LAST-MODIFIED:20260317T173416Z
UID:10000318-1792607400-1792611000@colemanhighlands.org
SUMMARY:October 2026 CHNA Meeting
DESCRIPTION:[vc_row][vc_column][vc_column_text css=””]This month’s meeting will be held at the Westport-Roanoke Community Center from 6:30 – 7:30 pm. \nAll are welcome to attend! Questions? Contact Board President Javier Perez.[/vc_column_text][/vc_column][/vc_row]
URL:https://colemanhighlands.org/event/october-2026-chna-meeting/
LOCATION:Westport-Roanoke Community Center\, 3601 Roanoke Rd\, Kansas City\, MO\, 64111\, United States
ATTACH;FMTTYPE=image/jpeg:https://colemanhighlands.org/wp-content/uploads/2026/03/President_Joe_Biden_participates_in_an_expanded_bilateral_meeting_with_Alberto_Fernandez_President_of_the_Argentine_Republic_on_March_29_2023_in_the_Cabinet_Room_of_the_White_House.jpg
END:VEVENT
BEGIN:VEVENT
DTSTART;TZID=America/Chicago:20261024T080000
DTEND;TZID=America/Chicago:20261024T120000
DTSTAMP:20260425T065409
CREATED:20260316T161511Z
LAST-MODIFIED:20260317T173425Z
UID:10000320-1792828800-1792843200@colemanhighlands.org
SUMMARY:Fall Dumpster Day 2026
DESCRIPTION:[vc_row][vc_column][vc_column_text css=””] \nFrom 8 AM – Noon\, Saturday October 24th\, dumpsters will be available to neighborhood residents.\nThere may be dumpsters designated for trash and separate dumpsters designated for yard waste\, but sometimes the dumpster companies specifically tell us it will all be going to the same place so don’t bother. It will just depend on what they tell us that day so when you arrive\, just ask if there are separate dumpsters or not and we’ll let you know.\nLOCATION\nAll dumpsters will be located at 32nd Terrace and West Coleman Road. \nPROHIBITED ITEMS\n\nTires\nHousehold Hazardous Waste (paint\, oil\, chemicals\, pesticides)\nWater Heaters\nFlourescent Lights (including CFLs)\nRefrigerators\nE-Waste (monitors\, computers\, household electronic items with internal compornents like mercury and other heavy metals)\nPlastic bags are not permitted in the leaf and brush dumpsters\n\nREMEMBER\n\nSign in with a volunteer.\nSet potentially reusable items and scrap metal on the curb next to trash dumpsters for our local scrappers.\nRECYCLE CARDBOARD AT THE CURB ON REGULAR TRASH DAY. Don’t bring it to the dumpster\, please.\nHaven’t paid your dues this year? Volunteers will be available to accept dues in person via check\, cash\, Venmo\, PayPal\, or you can just pay online. Please make checks out to Coleman Highlands Neighborhood Association. Suggested dues are $50.\n\n[/vc_column_text][/vc_column][/vc_row]
URL:https://colemanhighlands.org/event/fall-dumpster-day-2026/
LOCATION:32nd Terrace & W Coleman Road\, 3217 W Coleman Rd\, Kansas City\, MO\, 64111\, United States
ATTACH;FMTTYPE=image/jpeg:https://colemanhighlands.org/wp-content/uploads/2023/03/dumpster.jpeg
END:VEVENT
BEGIN:VEVENT
DTSTART;TZID=America/Chicago:20261118T183000
DTEND;TZID=America/Chicago:20261118T193000
DTSTAMP:20260425T065409
CREATED:20260316T161636Z
LAST-MODIFIED:20260317T173439Z
UID:10000319-1795026600-1795030200@colemanhighlands.org
SUMMARY:November 2026 CHNA Meeting
DESCRIPTION:[vc_row][vc_column][vc_column_text css=””]This month’s meeting will be held at the Westport-Roanoke Community Center from 6:30 – 7:30 pm. \nAll are welcome to attend! Questions? Contact Board President Javier Perez.[/vc_column_text][/vc_column][/vc_row]
URL:https://colemanhighlands.org/event/november-2026-chna-meeting/
LOCATION:Westport-Roanoke Community Center\, 3601 Roanoke Rd\, Kansas City\, MO\, 64111\, United States
ATTACH;FMTTYPE=image/jpeg:https://colemanhighlands.org/wp-content/uploads/2026/03/Scouts_parents_in_a_meeting_1961_.jpg
END:VEVENT
BEGIN:VEVENT
DTSTART;VALUE=DATE:20261224
DTEND;VALUE=DATE:20261225
DTSTAMP:20260425T065409
CREATED:20260316T162050Z
LAST-MODIFIED:20260317T173451Z
UID:10000325-1798070400-1798156799@colemanhighlands.org
SUMMARY:Luminarias 2026
DESCRIPTION:[vc_row][vc_column][vc_column_text css=””]Our annual Christmas Eve luminaria display is made possible by all the wonderful neighbors that volunteer their time to fold bags\, fill them with sand\, place the bags and candles throughout our neighborhood\, and — finally — light each and every one for a beautiful\, luminous\, and peaceful display of warmth and community during the winter holidays.[/vc_column_text][/vc_column][/vc_row]
URL:https://colemanhighlands.org/event/luminarias-2026/
LOCATION:MO
ATTACH;FMTTYPE=image/jpeg:https://colemanhighlands.org/wp-content/uploads/2025/02/2025-luminarias.jpeg
END:VEVENT
END:VCALENDAR