BEGIN:VCALENDAR
VERSION:2.0
PRODID:-//Coleman Highlands - ECPv6.15.18//NONSGML v1.0//EN
CALSCALE:GREGORIAN
METHOD:PUBLISH
X-WR-CALNAME:Coleman Highlands
X-ORIGINAL-URL:https://colemanhighlands.org
X-WR-CALDESC:Events for Coleman Highlands
REFRESH-INTERVAL;VALUE=DURATION:PT1H
X-Robots-Tag:noindex
X-PUBLISHED-TTL:PT1H
BEGIN:VTIMEZONE
TZID:America/Chicago
BEGIN:DAYLIGHT
TZOFFSETFROM:-0600
TZOFFSETTO:-0500
TZNAME:CDT
DTSTART:20220313T080000
END:DAYLIGHT
BEGIN:STANDARD
TZOFFSETFROM:-0500
TZOFFSETTO:-0600
TZNAME:CST
DTSTART:20221106T070000
END:STANDARD
BEGIN:DAYLIGHT
TZOFFSETFROM:-0600
TZOFFSETTO:-0500
TZNAME:CDT
DTSTART:20230312T080000
END:DAYLIGHT
BEGIN:STANDARD
TZOFFSETFROM:-0500
TZOFFSETTO:-0600
TZNAME:CST
DTSTART:20231105T070000
END:STANDARD
BEGIN:DAYLIGHT
TZOFFSETFROM:-0600
TZOFFSETTO:-0500
TZNAME:CDT
DTSTART:20240310T080000
END:DAYLIGHT
BEGIN:STANDARD
TZOFFSETFROM:-0500
TZOFFSETTO:-0600
TZNAME:CST
DTSTART:20241103T070000
END:STANDARD
BEGIN:DAYLIGHT
TZOFFSETFROM:-0600
TZOFFSETTO:-0500
TZNAME:CDT
DTSTART:20250309T080000
END:DAYLIGHT
BEGIN:STANDARD
TZOFFSETFROM:-0500
TZOFFSETTO:-0600
TZNAME:CST
DTSTART:20251102T070000
END:STANDARD
END:VTIMEZONE
BEGIN:VEVENT
DTSTART;TZID=America/Chicago:20240528T180000
DTEND;TZID=America/Chicago:20240528T200000
DTSTAMP:20260425T100610
CREATED:20240503T193311Z
LAST-MODIFIED:20240630T190008Z
UID:10000276-1716919200-1716926400@colemanhighlands.org
SUMMARY:KC Symphony Mobile Music Box in Roanoke Park
DESCRIPTION:This all-ages friendly event is part of the KC Symphony’s community outreach programming\, bringing free classical music to the greater KC Metro area. Bring a chair or a blanket and a picnic and enjoy a delightful evening of music for flute and strings.
URL:https://colemanhighlands.org/event/kc-symphony-mobile-music-box-in-roanoke-park/
LOCATION:Roanoke Park
ATTACH;FMTTYPE=image/jpeg:https://colemanhighlands.org/wp-content/uploads/2024/05/Symphony.jpeg
END:VEVENT
BEGIN:VEVENT
DTSTART;TZID=America/Chicago:20240525T080000
DTEND;TZID=America/Chicago:20240525T120000
DTSTAMP:20260425T100610
CREATED:20240503T183837Z
LAST-MODIFIED:20240630T190013Z
UID:10000272-1716624000-1716638400@colemanhighlands.org
SUMMARY:Spring Dumpster Day 2024
DESCRIPTION:From 8 AM – Noon\, Saturday May 25th\, six dumpsters will be available to neighborhood residents.  Two will be designated for trash and two designated for yard waste.\nLOCATION\nAll dumpsters will be located at 32nd Terrace and West Coleman Road. \nPROHIBITED ITEMS\n\nTires\nHousehold Hazardous Waste (paint\, oil\, chemicals\, pesticides)\nWater Heaters\nFlourescent Lights (including CFLs)\nRefrigerators\nE-Waste (monitors\, computers\, household electronic items with internal compornents like mercury and other heavy metals)\nPlastic bags are not permitted in the leaf and brush dumpsters\n\nREMEMBER\n\nSign in with a volunteer.\nSet potentially reusable items and scrap metal on the curb next to trash dumpsters for our local scrappers.\nRECYCLE CARDBOARD AT THE CURB. Don’t bring it to the dumpster\, please.\nYou can pay your dues for 2023 to a volunteer if you haven’t already for this year!
URL:https://colemanhighlands.org/event/spring-dumpster-day-2024/
ATTACH;FMTTYPE=image/jpeg:https://colemanhighlands.org/wp-content/uploads/2024/05/2024-Dumster-Day.jpeg
END:VEVENT
BEGIN:VEVENT
DTSTART;TZID=America/Chicago:20240518T100000
DTEND;TZID=America/Chicago:20240518T150000
DTSTAMP:20260425T100610
CREATED:20240503T190936Z
LAST-MODIFIED:20240630T190024Z
UID:10000274-1716026400-1716044400@colemanhighlands.org
SUMMARY:Volker Homes Tour
DESCRIPTION:Our neighbors to the south are putting on their first annual Volker Homes Tour! After some early morning yard sale browsing\, meander south to Volker and tour some of their most beautifully appointed homes. Tickets are $25 in advance and $30 on the day of the event. \n For more information and to purchase tickets\, visit: https://www.volkerkcmo.org/homestour
URL:https://colemanhighlands.org/event/volker-homes-tour/
ATTACH;FMTTYPE=image/jpeg:https://colemanhighlands.org/wp-content/uploads/2024/05/homes-tour.jpeg
END:VEVENT
BEGIN:VEVENT
DTSTART;VALUE=DATE:20240518
DTEND;VALUE=DATE:20240519
DTSTAMP:20260425T100610
CREATED:20240503T190209Z
LAST-MODIFIED:20240630T190028Z
UID:10000273-1715990400-1716076799@colemanhighlands.org
SUMMARY:2024 Neighborhood Yard Sale
DESCRIPTION:Saturday May 18th\, Coleman Highlands will be participating in a neighborhood-wide yard sale event. \nCHNA will put out signage and advertise an 8am start time. Residents are encouraged to sell used merchandise\, crafts\, artwork\, or handmade goods. Sell stuff\, buy stuff\, or just get out and see your neighbors!
URL:https://colemanhighlands.org/event/2024-neighborhood-yard-sale/
ATTACH;FMTTYPE=image/jpeg:https://colemanhighlands.org/wp-content/uploads/2024/05/2024-yard-sale.jpeg
END:VEVENT
BEGIN:VEVENT
DTSTART;TZID=America/Chicago:20240516T183000
DTEND;TZID=America/Chicago:20240516T193000
DTSTAMP:20260425T100610
CREATED:20240312T152708Z
LAST-MODIFIED:20240517T171423Z
UID:10000262-1715884200-1715887800@colemanhighlands.org
SUMMARY:May 2024 CHNA Meeting
DESCRIPTION:This month’s meeting will be held in person at a location to be determined (check back closer to the date of the meeting) from 6:30 – 7:30 pm. \nAll are welcome to attend! Questions? Contact Stacey Kenyon at president@colemanhighlands.org
URL:https://colemanhighlands.org/event/may-2024-chna-meeting/
ATTACH;FMTTYPE=image/jpeg:https://colemanhighlands.org/wp-content/uploads/2024/03/May-2024-CHNA-meeting.jpeg
END:VEVENT
BEGIN:VEVENT
DTSTART;TZID=America/Chicago:20240418T183000
DTEND;TZID=America/Chicago:20240418T193000
DTSTAMP:20260425T100610
CREATED:20240312T150928Z
LAST-MODIFIED:20240517T171436Z
UID:10000261-1713465000-1713468600@colemanhighlands.org
SUMMARY:April 2024 CHNA Meeting
DESCRIPTION:This month’s meeting will be held in person at a location to be determined (check back closer to the date of the meeting) from 6:30 – 7:30 pm. \nAll are welcome to attend! Questions? Contact Stacey Kenyon at president@colemanhighlands.org
URL:https://colemanhighlands.org/event/april-2024-chna-meeting/
ATTACH;FMTTYPE=image/jpeg:https://colemanhighlands.org/wp-content/uploads/2024/03/April-2024-CHNA-meting.jpeg
END:VEVENT
BEGIN:VEVENT
DTSTART;TZID=America/Chicago:20240330T150000
DTEND;TZID=America/Chicago:20240330T160000
DTSTAMP:20260425T100610
CREATED:20240312T161910Z
LAST-MODIFIED:20240517T171441Z
UID:10000267-1711810800-1711814400@colemanhighlands.org
SUMMARY:An Egg-stra Special Afternoon in the Park
DESCRIPTION:Some-bunny tipped off CHNA that fun will be waiting for us in Roanoke Park. Egg Hunt will be held at 3pm\, Saturday March 30th\, in Roanoke Park in the meadows by Coleman Spring just to the west of the rope and zipline park on Karnes. The weather looks like it will be spectacular. Don’t forget to BYO basket! \nPlease RSVP using this google form so we can get an idea of how many eggs we should fill: https://docs.google.com/forms/d/e/1FAIpQLSdFfPqckOZdzK-YCtLedTJ4-qESrMqF4KOIZ5guKBE6bLwcRQ/viewform?usp=sf_link \nStay tuned to the Coleman Highlands Google Group where someone will peep about the event start time and volunteering. If unpredictable spring weather gets fowl\, rescheduling updates will be shared by email.
URL:https://colemanhighlands.org/event/an-egg-stra-special-afternoon-in-the-park-2/
LOCATION:Roanoke Park
ATTACH;FMTTYPE=image/jpeg:https://colemanhighlands.org/wp-content/uploads/2024/03/Easter-Egg-Hunt2024SocialEventImage.jpg
END:VEVENT
BEGIN:VEVENT
DTSTART;TZID=America/Chicago:20240321T183000
DTEND;TZID=America/Chicago:20240321T193000
DTSTAMP:20260425T100610
CREATED:20240312T150236Z
LAST-MODIFIED:20240517T171445Z
UID:10000260-1711045800-1711049400@colemanhighlands.org
SUMMARY:March 2024 CHNA Meeting
DESCRIPTION:This month’s meeting will be held in person at a location to be determined (check back closer to the date of the meeting) from 6:30 – 7:30 pm. \nAll are welcome to attend! Questions? Contact Stacey Kenyon at president@colemanhighlands.org
URL:https://colemanhighlands.org/event/march-2024-chna-meeting/
ATTACH;FMTTYPE=image/jpeg:https://colemanhighlands.org/wp-content/uploads/2024/03/March-2024-CHNA-meeting.jpeg
END:VEVENT
BEGIN:VEVENT
DTSTART;VALUE=DATE:20231226
DTEND;VALUE=DATE:20231227
DTSTAMP:20260425T100610
CREATED:20230324T121558Z
LAST-MODIFIED:20230324T121558Z
UID:10000243-1703548800-1703635199@colemanhighlands.org
SUMMARY:Winter Trash Amnesty Day
DESCRIPTION:No-tag (“trash amnesty”) weeks happen twice a year and on special occasions. During those weeks\, residents can put out up to 12 bags curbside without any additional tags as long as each bag weighs less than 40 pounds. Regular trash rules apply. No hazardous waste\, bulky items or leaf and brush will be collected.
URL:https://colemanhighlands.org/event/winter-trash-amnesty-day/
ATTACH;FMTTYPE=image/jpeg:https://colemanhighlands.org/wp-content/uploads/2020/09/TrashAmnesty.jpg
END:VEVENT
BEGIN:VEVENT
DTSTART;VALUE=DATE:20231224
DTEND;VALUE=DATE:20231225
DTSTAMP:20260425T100610
CREATED:20230324T121817Z
LAST-MODIFIED:20231006T183416Z
UID:10000244-1703376000-1703462399@colemanhighlands.org
SUMMARY:Luminarias 2023
DESCRIPTION:
URL:https://colemanhighlands.org/event/luminarias-2023/
ATTACH;FMTTYPE=image/jpeg:https://colemanhighlands.org/wp-content/uploads/2022/06/Luminaria-opt.jpg
END:VEVENT
BEGIN:VEVENT
DTSTART;VALUE=DATE:20231211
DTEND;VALUE=DATE:20231212
DTSTAMP:20260425T100610
CREATED:20231006T185058Z
LAST-MODIFIED:20231006T185058Z
UID:10000258-1702252800-1702339199@colemanhighlands.org
SUMMARY:Winter Curbside Leaf and Brush Pickup
DESCRIPTION:On Monday December 11th\, the city will collect brush and yard waste curbside in our neighborhood. Please pay attention to the rules for curbside collection: \n\nSacks and bundles should be placed at the curb by 7:00 a.m. on the regularly-scheduled trash day\, but not before 3:00 p.m. on the previous day.\nNo more than 20 sacks and bundles per household.\nSacks and bundles must not weigh more than 40 pounds each.\nUse only paper lawn debris sacks. No plastic bags.\nIf you seal the sacks\, use masking tape only; do not use plastic or duct tape.\nNo grass clippings. No trash.\nAll branches must be bundled. Branches must not be more than 3 inches in diameter.\nBundles of branches must not be more than 2 feet in diameter and not more than 4 feet long.\nUse twine or jute rope to tie bundles; do not use wire or plastic tape.\nIf wet weather is forecast\, cover sacks and bundles with clear plastic.\n\nIf sacks and bundles are not collected on the scheduled trash day\, residents must contact 311 within 24 hours. For questions or to report service-related issues\, please call 311 or 816.513.1313.
URL:https://colemanhighlands.org/event/winter-curbside-leaf-and-brush-pickup/
ATTACH;FMTTYPE=image/jpeg:https://colemanhighlands.org/wp-content/uploads/2020/09/FallLeaves.jpg
END:VEVENT
BEGIN:VEVENT
DTSTART;TZID=America/Chicago:20231116T183000
DTEND;TZID=America/Chicago:20231116T193000
DTSTAMP:20260425T100610
CREATED:20230421T041018Z
LAST-MODIFIED:20231006T185125Z
UID:10000253-1700159400-1700163000@colemanhighlands.org
SUMMARY:November 2023 CHNA Meeting
DESCRIPTION:This month’s meeting will be held in person at a location to be determined (check back closer to the date of the meeting) from 6:30 – 7:30 pm. \nAll are welcome to attend! Questions? Contact Stacey Kenyon at president@colemanhighlands.org
URL:https://colemanhighlands.org/event/october-2023-chna-meeting/
ATTACH;FMTTYPE=image/jpeg:https://colemanhighlands.org/wp-content/uploads/2015/10/Meeting-590x418.jpg
END:VEVENT
BEGIN:VEVENT
DTSTART;VALUE=DATE:20231030
DTEND;VALUE=DATE:20231031
DTSTAMP:20260425T100610
CREATED:20231006T184956Z
LAST-MODIFIED:20231006T193104Z
UID:10000257-1698624000-1698710399@colemanhighlands.org
SUMMARY:Fall Curbside Leaf and Brush Pickup
DESCRIPTION:On Monday October 30th\, the city will collect brush and yard waste curbside in our neighborhood. Please pay attention to the rules for curbside collection: \n\nSacks and bundles should be placed at the curb by 7:00 a.m. on the regularly-scheduled trash day\, but not before 3:00 p.m. on the previous day.\nNo more than 20 sacks and bundles per household.\nSacks and bundles must not weigh more than 40 pounds each.\nUse only paper lawn debris sacks. No plastic bags.\nIf you seal the sacks\, use masking tape only; do not use plastic or duct tape.\nNo grass clippings. No trash.\nAll branches must be bundled. Branches must not be more than 3 inches in diameter.\nBundles of branches must not be more than 2 feet in diameter and not more than 4 feet long.\nUse twine or jute rope to tie bundles; do not use wire or plastic tape.\nIf wet weather is forecast\, cover sacks and bundles with clear plastic.\n\nIf sacks and bundles are not collected on the scheduled trash day\, residents must contact 311 within 24 hours. For questions or to report service-related issues\, please call 311 or 816.513.1313.
URL:https://colemanhighlands.org/event/fall-curbside-leaf-and-brush-pickup/
ATTACH;FMTTYPE=image/jpeg:https://colemanhighlands.org/wp-content/uploads/2020/09/FallLeaves.jpg
END:VEVENT
BEGIN:VEVENT
DTSTART;TZID=America/Chicago:20231028T170000
DTEND;TZID=America/Chicago:20231028T200000
DTSTAMP:20260425T100610
CREATED:20231006T193010Z
LAST-MODIFIED:20240313T144324Z
UID:10000259-1698512400-1698523200@colemanhighlands.org
SUMMARY:CANCELLED DUE TO WEATHER: Halloweenie Roast & Movie Night
DESCRIPTION:CANCELLED DUE TO WEATHER\nPlease stay tuned in case a random warm weekend day pops up in November where we can reschedule. \n______ \nSat. Oct 28th\, 5pm \n34th and W. Coleman Road \nCome gather and celebrate the fall and spooky season with us! We’ll have a couple fire pits set up and hot dogs and marshmallows for roasting. There will also be hot apple cider. At 6:30 we’ll watch a spooky\, family-friendly movie (as long as the weather is in our favor). \nBYO chair\, roasting sticks\, and any other snacks or beverages you might want.
URL:https://colemanhighlands.org/event/halloweenie-roast-movie-night/
ATTACH;FMTTYPE=image/jpeg:https://colemanhighlands.org/wp-content/uploads/2023/10/Halloweenie-Roast-Movie-Night.jpg
END:VEVENT
BEGIN:VEVENT
DTSTART;TZID=America/Chicago:20231028T080000
DTEND;TZID=America/Chicago:20231028T120000
DTSTAMP:20260425T100610
CREATED:20230906T121116Z
LAST-MODIFIED:20240313T144328Z
UID:10000242-1698480000-1698494400@colemanhighlands.org
SUMMARY:Fall Dumpster Day 2023
DESCRIPTION:From 8 AM – Noon\, Saturday October 28th\, six dumpsters will be available to neighborhood residents.  Three will be designated for trash and three designated for yard waste.\nLOCATION\nAll dumpsters will be located at 32nd Terrace and West Coleman Road. \nPROHIBITED ITEMS\n\nTires\nHousehold Hazardous Waste (paint\, oil\, chemicals\, pesticides)\nWater Heaters\nFlourescent Lights (including CFLs)\nRefrigerators\nE-Waste (monitors\, computers\, household electronic items with internal compornents like mercury and other heavy metals)\nPlastic bags are not permitted in the leaf and brush dumpsters\n\nREMEMBER\n\nSign in with a volunteer.\nSet Potentially reusable items and scrap metal on the curb next to trash dumpsters for our local scrappers.\nRECYCLE CARDBOARD AT THE CURB ON REGULAR TRASH DAY. Don’t bring it to the dumpster\, please.\nHaven’t paid your dues this year? Volunteers will be available to accept dues checks. Please make checks out to Coleman Highlands Neighborhood Association. Suggested dues are $50.
URL:https://colemanhighlands.org/event/fall-dumpster-day-2023/
ATTACH;FMTTYPE=image/jpeg:https://colemanhighlands.org/wp-content/uploads/2021/03/DumpsterImg.jpg
END:VEVENT
BEGIN:VEVENT
DTSTART;TZID=America/Chicago:20231024T183000
DTEND;TZID=America/Chicago:20231024T193000
DTSTAMP:20260425T100610
CREATED:20230512T174025Z
LAST-MODIFIED:20240313T144335Z
UID:10000254-1698172200-1698175800@colemanhighlands.org
SUMMARY:2023 Annual CHNA Meeting
DESCRIPTION:Our Annual Neighborhood Meeting this year will be held on Tuesday\, October 24th\, from 6:30 – 7:30 pm at Westport-Roanoke Community Center in the gym. \nAll are welcome to attend! Questions? Contact Stacey Kenyon at president@colemanhighlands.org
URL:https://colemanhighlands.org/event/annual-2023-chna-meeting-2/
ATTACH;FMTTYPE=image/jpeg:https://colemanhighlands.org/wp-content/uploads/2022/04/CHNA_Meetingimg_SM_OPT.jpg
END:VEVENT
BEGIN:VEVENT
DTSTART;TZID=America/Chicago:20231013T160000
DTEND;TZID=America/Chicago:20231013T213000
DTSTAMP:20260425T100610
CREATED:20231006T183344Z
LAST-MODIFIED:20240313T144346Z
UID:10000256-1697212800-1697232600@colemanhighlands.org
SUMMARY:Ghost Light in Roanoke Park
DESCRIPTION:4 p.m. Grounds and Food & Beverage Trucks Open \n7:30-9:30 p.m. Ghost Light Performance \nKC Rep and KC Parent are putting on this night of free frightful fun for the whole family! Ghost Light: A Haunted Night of Songs and Stories from KC’s Cultural Crossroads returns! This hybrid concert and ghost-story event weaves together local storytellers and musicians to share frighteningly fun tales from KC’s cultural crossroads that will leave you shaking with excitement. \nNestled in the dark woods of Roanoke Park\, these event’s are free to the public\, and will featuring extraordinary musicians\, writers\, and storytellers that reflect the cultural riches of our KC community.
URL:https://colemanhighlands.org/event/ghost-light-in-roanoke-park/
LOCATION:Roanoke Park
ATTACH;FMTTYPE=image/jpeg:https://colemanhighlands.org/wp-content/uploads/2023/10/ghostlight.jpg
END:VEVENT
BEGIN:VEVENT
DTSTART;TZID=America/Chicago:20230921T183000
DTEND;TZID=America/Chicago:20230921T193000
DTSTAMP:20260425T100610
CREATED:20230906T140939Z
LAST-MODIFIED:20231006T182448Z
UID:10000252-1695321000-1695324600@colemanhighlands.org
SUMMARY:September 2023 CHNA Meeting
DESCRIPTION:This month’s meeting will be held in person at a location to be determined (check back closer to the date of the meeting) from 6:30 – 7:30 pm. \nAll are welcome to attend! Questions? Contact Stacey Kenyon at president@colemanhighlands.org
URL:https://colemanhighlands.org/event/september-2023-chna-meeting/
ATTACH;FMTTYPE=image/jpeg:https://colemanhighlands.org/wp-content/uploads/2023/03/city-council-meeting.jpeg
END:VEVENT
BEGIN:VEVENT
DTSTART;VALUE=DATE:20230916
DTEND;VALUE=DATE:20230917
DTSTAMP:20260425T100610
CREATED:20230906T120811Z
LAST-MODIFIED:20231006T182455Z
UID:10000241-1694822400-1694908799@colemanhighlands.org
SUMMARY:Fall Neighborhood Picnic
DESCRIPTION:This year’s picnic is Saturday\, September 16th and starts at 5pm (food served at 6pm) and will be on 32nd street between Coleman Rd. and West Coleman Rd. \n \nMenu \nHot dogs and hamburgers will be provided \nLemonade\, beer\, and water provided \nNeighbors bring sides and desserts \nEntertainment \nLive music and more! \nWant to help? \nAs always we always need volunteers to help set up tables/chairs around 3pm and take down tables/chairs at 9:30pm. Contact Stacey Kenyon to volunteer.
URL:https://colemanhighlands.org/event/annual-neighborhood-picnic-3/
ATTACH;FMTTYPE=image/jpeg:https://colemanhighlands.org/wp-content/uploads/2023/03/picnic.jpeg
END:VEVENT
BEGIN:VEVENT
DTSTART;TZID=America/Chicago:20230909T183000
DTEND;TZID=America/Chicago:20230909T210000
DTSTAMP:20260425T100610
CREATED:20230906T140650Z
LAST-MODIFIED:20231006T182501Z
UID:10000255-1694284200-1694293200@colemanhighlands.org
SUMMARY:Dance in the Park 2023
DESCRIPTION:City in Motion Dance Theater\, Inc. is proud to announce the 24th annual Dance in the Park!  The concert will be presented on Saturday evening\, September 9\, 2023 in the tranquil setting of Roanoke Park in mid-town Kansas City\, just off Karnes Blvd & Roanoke Rd. \nThis FREE show kicks off at 6:30 with a free Hula Hoop class for everyBODY.  Main show begins at 7 p.m. emceed by Darron Story. Dance groups include City in Motion Dance Theater\, KC Contemporary Dance\, Fire Hoop\, West African\, West Indian\, and more!
URL:https://colemanhighlands.org/event/dance-in-the-park-2023/
LOCATION:Roanoke Park
ATTACH;FMTTYPE=image/jpeg:https://colemanhighlands.org/wp-content/uploads/2023/09/Danceinthepark2.jpg
END:VEVENT
BEGIN:VEVENT
DTSTART;TZID=America/Chicago:20230720T183000
DTEND;TZID=America/Chicago:20230720T193000
DTSTAMP:20260425T100610
CREATED:20230421T040822Z
LAST-MODIFIED:20230829T220644Z
UID:10000251-1689877800-1689881400@colemanhighlands.org
SUMMARY:July 2023 CHNA Meeting
DESCRIPTION:This month’s meeting will be held in person at a location to be determined (check back closer to the date of the meeting) from 6:30 – 7:30 pm. \nAll are welcome to attend! Questions? Contact Stacey Kenyon at president@colemanhighlands.org
URL:https://colemanhighlands.org/event/july-2023-chna-meeting/
ATTACH;FMTTYPE=image/jpeg:https://colemanhighlands.org/wp-content/uploads/2015/03/640px-Ford_meeting_with_National_Security_Council_in_White_House_10_Aug_1974.jpg
END:VEVENT
BEGIN:VEVENT
DTSTART;VALUE=DATE:20230710
DTEND;VALUE=DATE:20230711
DTSTAMP:20260425T100610
CREATED:20230324T115103Z
LAST-MODIFIED:20230421T034334Z
UID:10000240-1688947200-1689033599@colemanhighlands.org
SUMMARY:City Trash Amnesty Day
DESCRIPTION:This day is one of two days per year where the city allows up to 12 bags of trash to be set at the curb for regular pickup. Please do not set out bulky items or yard waste for this pickup. This is for regular trash only.
URL:https://colemanhighlands.org/event/city-trash-amnesty-day-2/
ATTACH;FMTTYPE=image/jpeg:https://colemanhighlands.org/wp-content/uploads/2013/07/pile-trash-bags-12122718.jpg
END:VEVENT
BEGIN:VEVENT
DTSTART;VALUE=DATE:20230704
DTEND;VALUE=DATE:20230705
DTSTAMP:20260425T100610
CREATED:20230324T114652Z
LAST-MODIFIED:20230829T220653Z
UID:10000239-1688428800-1688515199@colemanhighlands.org
SUMMARY:Independence Day Parade & Picnic
DESCRIPTION:Details TBA
URL:https://colemanhighlands.org/event/independence-day-parade-picnic-2/
ATTACH;FMTTYPE=image/jpeg:https://colemanhighlands.org/wp-content/uploads/2023/03/4th-of-july.jpeg
END:VEVENT
BEGIN:VEVENT
DTSTART;TZID=America/Chicago:20230624T080000
DTEND;TZID=America/Chicago:20230624T120000
DTSTAMP:20260425T100610
CREATED:20230323T133052Z
LAST-MODIFIED:20230829T220700Z
UID:10000238-1687593600-1687608000@colemanhighlands.org
SUMMARY:Dumpster Day 2023
DESCRIPTION:From 8 AM – Noon\, Saturday June 24th\, six dumpsters will be available to neighborhood residents.  Two will be designated for trash and two designated for yard waste.\nLOCATION\nAll dumpsters will be located at 32nd Terrace and West Coleman Road. \nPROHIBITED ITEMS\n\nTires\nHousehold Hazardous Waste (paint\, oil\, chemicals\, pesticides)\nWater Heaters\nFlourescent Lights (including CFLs)\nRefrigerators\nE-Waste (monitors\, computers\, household electronic items with internal compornents like mercury and other heavy metals)\nPlastic bags are not permitted in the leaf and brush dumpsters\n\nREMEMBER\n\nSign in with a volunteer.\nSet potentially reusable items and scrap metal on the curb next to trash dumpsters for our local scrappers.\nRECYCLE CARDBOARD AT THE CURB. Don’t bring it to the dumpster\, please.\nYou can pay your dues for 2023 to a volunteer if you haven’t already for this year!
URL:https://colemanhighlands.org/event/dumpster-day-2023/
ATTACH;FMTTYPE=image/jpeg:https://colemanhighlands.org/wp-content/uploads/2023/03/dumpster.jpeg
END:VEVENT
BEGIN:VEVENT
DTSTART;TZID=America/Chicago:20230615T183000
DTEND;TZID=America/Chicago:20230615T193000
DTSTAMP:20260425T100610
CREATED:20230421T040706Z
LAST-MODIFIED:20230829T220854Z
UID:10000250-1686853800-1686857400@colemanhighlands.org
SUMMARY:June 2023 CHNA Meeting
DESCRIPTION:This month’s meeting will be held in person at a location to be determined (check back closer to the date of the meeting) from 6:30 – 7:30 pm. \nAll are welcome to attend! Questions? Contact Stacey Kenyon at president@colemanhighlands.org
URL:https://colemanhighlands.org/event/june-2023-chna-meeting/
ATTACH;FMTTYPE=image/jpeg:https://colemanhighlands.org/wp-content/uploads/2015/05/CityCouncil.jpg
END:VEVENT
BEGIN:VEVENT
DTSTART;TZID=America/Chicago:20230610T080000
DTEND;TZID=America/Chicago:20230610T150000
DTSTAMP:20260425T100610
CREATED:20230321T121836Z
LAST-MODIFIED:20230829T220900Z
UID:10000235-1686384000-1686409200@colemanhighlands.org
SUMMARY:Neighborhood Yard Sale
DESCRIPTION:From 8am – 3pm\, Saturday June 10th\, Coleman Highlands will be participating in a neighborhood-wide yard sale event that coincides with Hyde Park\, Southmoreland\, and Volker‘s neighborhood yard sales. \nCHNA will put out signage and advertise an 8am start time. Residents are encouraged to sell used merchandise\, crafts\, artwork\, or handmade goods. Sell stuff\, buy stuff\, or just get out and see your neighbors! \nAfter the sales are over Troost39 Thrift Store will be coming through the neighborhood to pick up donations BUT PLEASE MAKE A RESERVATION IN ADVANCE. Email your name and address to president@colemanhighlands.org to make a donation reservation by Thursday June 8th. Your donations should be boxed or bagged and outside if possible. If this is not possible due to anyone’s physical limitations\, the Troost39 team can come in to get them (depending on weight). A donation receipt will be furnished to everyone participating in the free pickup. \nLearn more about Troost39
URL:https://colemanhighlands.org/event/neighborhood-yard-sale/
ATTACH;FMTTYPE=image/jpeg:https://colemanhighlands.org/wp-content/uploads/2023/03/yard-sale.jpeg
END:VEVENT
BEGIN:VEVENT
DTSTART;TZID=America/Chicago:20230524T183000
DTEND;TZID=America/Chicago:20230524T193000
DTSTAMP:20260425T100610
CREATED:20230328T172147Z
LAST-MODIFIED:20230829T220906Z
UID:10000237-1684953000-1684956600@colemanhighlands.org
SUMMARY:Meet our KCPD
DESCRIPTION:KCPD’s Community Interaction Officer (CIO) program assigns two officers to each patrol division who work as direct liaisons to the communities they serve. Our CIO meeting will be held on Wednesday\, May 24th at 6:30PM on the lawn of 3434 W. Coleman Rd. \nIf you would like to submit questions in advance\, please email president@colemanhighlands.org or submit your questions to a CHNA board member.
URL:https://colemanhighlands.org/event/meet-our-kcpd/
LOCATION:3434 West Coleman Rd.\, 3434 West Coleman Rd.\, Kansas City\, MO\, 64111\, United States
ATTACH;FMTTYPE=image/jpeg:https://colemanhighlands.org/wp-content/uploads/2022/06/281149016_5347473651938706_7803626885179881606_n.jpeg
GEO:39.0646078;-94.5992468
X-APPLE-STRUCTURED-LOCATION;VALUE=URI;X-ADDRESS=3434 West Coleman Rd. 3434 West Coleman Rd. Kansas City MO 64111 United States;X-APPLE-RADIUS=500;X-TITLE=3434 West Coleman Rd.:geo:-94.5992468,39.0646078
END:VEVENT
BEGIN:VEVENT
DTSTART;TZID=America/Chicago:20230518T183000
DTEND;TZID=America/Chicago:20230518T193000
DTSTAMP:20260425T100610
CREATED:20230421T040351Z
LAST-MODIFIED:20230829T220912Z
UID:10000249-1684434600-1684438200@colemanhighlands.org
SUMMARY:May 2023 CHNA Meeting
DESCRIPTION:This month’s meeting will be held in person at a location to be determined (check back closer to the date of the meeting) from 6:30 – 7:30 pm. \nAll are welcome to attend! Questions? Contact Stacey Kenyon at president@colemanhighlands.org
URL:https://colemanhighlands.org/event/may-2023-chna-meeting/
ATTACH;FMTTYPE=image/jpeg:https://colemanhighlands.org/wp-content/uploads/2022/04/CHNA_Meetingimg_SM_OPT.jpg
END:VEVENT
BEGIN:VEVENT
DTSTART;TZID=America/Chicago:20230420T183000
DTEND;TZID=America/Chicago:20230420T193000
DTSTAMP:20260425T100610
CREATED:20230421T040023Z
LAST-MODIFIED:20230421T040346Z
UID:10000248-1682015400-1682019000@colemanhighlands.org
SUMMARY:April 2023 CHNA Meeting
DESCRIPTION:This month’s neighborhood association meeting takes place at neighbor Brian McMillain’s house\, 3423 W Coleman Rd\, 6:30 – 7:30 pm. \nAll are welcome to attend! Questions? Contact Stacey Kenyon at president@colemanhighlands.org
URL:https://colemanhighlands.org/event/april-2023-chna-meeting/
ATTACH;FMTTYPE=image/jpeg:https://colemanhighlands.org/wp-content/uploads/2016/10/CommunityRoom.jpg
END:VEVENT
BEGIN:VEVENT
DTSTART;VALUE=DATE:20230408
DTEND;VALUE=DATE:20230409
DTSTAMP:20260425T100610
CREATED:20230320T185811Z
LAST-MODIFIED:20230421T034232Z
UID:10000234-1680912000-1680998399@colemanhighlands.org
SUMMARY:An Egg-stra Special Afternoon in the Park
DESCRIPTION:Some-bunny tipped off CHNA that fun will be waiting for us in Roanoke Park on Saturday\, April 8th. Eggs aplenty\, stuffed with toys and candy\, will be nestled in the green space around the Coleman Highlands Spring (north of Karnes Boulevard\, between Grocer’s Warehouse and the playground). Children are invited to hop on down with their own baskets but we’ll have a few extras to borrow. Come chick it out! \nStay tuned to the Coleman Highlands Google Group where someone will peep about the event start time and volunteering. If unpredictable spring weather gets fowl\, rescheduling updates will be shared by email.
URL:https://colemanhighlands.org/event/an-egg-stra-special-afternoon-in-the-park/
LOCATION:Roanoke Park
ATTACH;FMTTYPE=image/jpeg:https://colemanhighlands.org/wp-content/uploads/2023/03/easter-egg-hunt.jpeg
END:VEVENT
END:VCALENDAR