BEGIN:VCALENDAR
VERSION:2.0
PRODID:-//Coleman Highlands - ECPv6.15.18//NONSGML v1.0//EN
CALSCALE:GREGORIAN
METHOD:PUBLISH
X-WR-CALNAME:Coleman Highlands
X-ORIGINAL-URL:https://colemanhighlands.org
X-WR-CALDESC:Events for Coleman Highlands
REFRESH-INTERVAL;VALUE=DURATION:PT1H
X-Robots-Tag:noindex
X-PUBLISHED-TTL:PT1H
BEGIN:VTIMEZONE
TZID:America/Chicago
BEGIN:DAYLIGHT
TZOFFSETFROM:-0600
TZOFFSETTO:-0500
TZNAME:CDT
DTSTART:20230312T080000
END:DAYLIGHT
BEGIN:STANDARD
TZOFFSETFROM:-0500
TZOFFSETTO:-0600
TZNAME:CST
DTSTART:20231105T070000
END:STANDARD
BEGIN:DAYLIGHT
TZOFFSETFROM:-0600
TZOFFSETTO:-0500
TZNAME:CDT
DTSTART:20240310T080000
END:DAYLIGHT
BEGIN:STANDARD
TZOFFSETFROM:-0500
TZOFFSETTO:-0600
TZNAME:CST
DTSTART:20241103T070000
END:STANDARD
BEGIN:DAYLIGHT
TZOFFSETFROM:-0600
TZOFFSETTO:-0500
TZNAME:CDT
DTSTART:20250309T080000
END:DAYLIGHT
BEGIN:STANDARD
TZOFFSETFROM:-0500
TZOFFSETTO:-0600
TZNAME:CST
DTSTART:20251102T070000
END:STANDARD
END:VTIMEZONE
BEGIN:VEVENT
DTSTART;TZID=America/Chicago:20240907T183000
DTEND;TZID=America/Chicago:20240907T213000
DTSTAMP:20260425T110732
CREATED:20240312T164118Z
LAST-MODIFIED:20241021T151107Z
UID:10000269-1725733800-1725744600@colemanhighlands.org
SUMMARY:Dance in the Park 2024
DESCRIPTION:Dance in the Park is the annual outdoor dance concert\, in partnership with City in Motion Dance Theater\, that takes place in Roanoke Park the first Saturday after Labor Day. Dance in the Park reflects the cultural vitality\, diversity and unique dance styles of Kansas City. Sorry\, no pets allowed. \nFor updates and more information\, visit https://kcparks.org/event/dance-park-23/ \n 
URL:https://colemanhighlands.org/event/dance-in-the-park-2024/
LOCATION:Roanoke Park
ATTACH;FMTTYPE=image/jpeg:https://colemanhighlands.org/wp-content/uploads/2024/03/Dance-in-the-Park.jpeg
END:VEVENT
BEGIN:VEVENT
DTSTART;TZID=America/Chicago:20240919T183000
DTEND;TZID=America/Chicago:20240919T193000
DTSTAMP:20260425T110732
CREATED:20240312T155918Z
LAST-MODIFIED:20241021T151102Z
UID:10000265-1726770600-1726774200@colemanhighlands.org
SUMMARY:September 2024 CHNA Meeting
DESCRIPTION:This month’s meeting will be held in person at a location to be determined (check back closer to the date of the meeting) from 6:30 – 7:30 pm. \nAll are welcome to attend! Questions? Contact Stacey Kenyon at president@colemanhighlands.org
URL:https://colemanhighlands.org/event/september-2024-chna-meeting/
ATTACH;FMTTYPE=image/webp:https://colemanhighlands.org/wp-content/uploads/2024/03/SeptemberMeeting2024.webp
END:VEVENT
END:VCALENDAR