BEGIN:VCALENDAR
VERSION:2.0
PRODID:-//Coleman Highlands - ECPv6.15.18//NONSGML v1.0//EN
CALSCALE:GREGORIAN
METHOD:PUBLISH
X-ORIGINAL-URL:https://colemanhighlands.org
X-WR-CALDESC:Events for Coleman Highlands
REFRESH-INTERVAL;VALUE=DURATION:PT1H
X-Robots-Tag:noindex
X-PUBLISHED-TTL:PT1H
BEGIN:VTIMEZONE
TZID:America/Chicago
BEGIN:DAYLIGHT
TZOFFSETFROM:-0600
TZOFFSETTO:-0500
TZNAME:CDT
DTSTART:20230312T080000
END:DAYLIGHT
BEGIN:STANDARD
TZOFFSETFROM:-0500
TZOFFSETTO:-0600
TZNAME:CST
DTSTART:20231105T070000
END:STANDARD
BEGIN:DAYLIGHT
TZOFFSETFROM:-0600
TZOFFSETTO:-0500
TZNAME:CDT
DTSTART:20240310T080000
END:DAYLIGHT
BEGIN:STANDARD
TZOFFSETFROM:-0500
TZOFFSETTO:-0600
TZNAME:CST
DTSTART:20241103T070000
END:STANDARD
BEGIN:DAYLIGHT
TZOFFSETFROM:-0600
TZOFFSETTO:-0500
TZNAME:CDT
DTSTART:20250309T080000
END:DAYLIGHT
BEGIN:STANDARD
TZOFFSETFROM:-0500
TZOFFSETTO:-0600
TZNAME:CST
DTSTART:20251102T070000
END:STANDARD
END:VTIMEZONE
BEGIN:VEVENT
DTSTART;TZID=America/Chicago:20241023T180000
DTEND;TZID=America/Chicago:20241023T200000
DTSTAMP:20260425T094330
CREATED:20241019T153538Z
LAST-MODIFIED:20260317T020235Z
UID:10000279-1729706400-1729713600@colemanhighlands.org
SUMMARY:CHNA Annual Meeting & Election 2024
DESCRIPTION:This year’s Coleman Highlands Neighborhood Association Annual Meeting & Election will be held on Wednesday\, October 23rd\, 6pm\, at Westport-Roanoke Community Center. \nSpecial guests: \nMissouri State Representative Emily Weber\nUday Manepalli\, KCMO Public Works (sidewalks & curbs\, Complete Streets) \nBoard elections: \nIf you’re interested in joining the board\, there are positions available. We will vote on new members during the meeting. Terms are 3 years and expected effort is ~5 hours per month.
URL:https://colemanhighlands.org/event/chna-annual-meeting-election-2024/
LOCATION:Westport-Roanoke Community Center\, 3601 Roanoke Rd\, Kansas City\, MO\, 64111\, United States
ATTACH;FMTTYPE=image/jpeg:https://colemanhighlands.org/wp-content/uploads/2015/03/Admiralty_board_room_1808_Pugin_and_Rowlandson.jpg
END:VEVENT
BEGIN:VEVENT
DTSTART;TZID=America/Chicago:20241026T090000
DTEND;TZID=America/Chicago:20241026T120000
DTSTAMP:20260425T094330
CREATED:20240503T193507Z
LAST-MODIFIED:20260317T020231Z
UID:10000277-1729933200-1729944000@colemanhighlands.org
SUMMARY:Fall Dumpster Day 2024
DESCRIPTION:From 9 AM – Noon\, Saturday October 26th\, six dumpsters will be available to neighborhood residents.  Three will be designated for trash and three designated for yard waste.\nLOCATION\nAll dumpsters will be located at 32nd Terrace and West Coleman Road. \nPROHIBITED ITEMS\n\nTires\nHousehold Hazardous Waste (paint\, oil\, chemicals\, pesticides)\nWater Heaters\nFlourescent Lights (including CFLs)\nRefrigerators\nE-Waste (monitors\, computers\, household electronic items with internal compornents like mercury and other heavy metals)\nPlastic bags are not permitted in the leaf and brush dumpsters\n\nREMEMBER\n\nSign in with a volunteer.\nSet Potentially reusable items and scrap metal on the curb next to trash dumpsters for our local scrappers.\nRECYCLE CARDBOARD AT THE CURB ON REGULAR TRASH DAY. Don’t bring it to the dumpster\, please.\nHaven’t paid your dues this year? Volunteers will be available to accept dues checks. Please make checks out to Coleman Highlands Neighborhood Association. Suggested dues are $50.
URL:https://colemanhighlands.org/event/fall-dumpster-day-2024/
ATTACH;FMTTYPE=image/jpeg:https://colemanhighlands.org/wp-content/uploads/2021/03/DumpsterImg.jpg
END:VEVENT
BEGIN:VEVENT
DTSTART;TZID=America/Chicago:20241026T100000
DTEND;TZID=America/Chicago:20241026T120000
DTSTAMP:20260425T094330
CREATED:20241021T161526Z
LAST-MODIFIED:20260317T020221Z
UID:10000280-1729936800-1729944000@colemanhighlands.org
SUMMARY:Halloween Punch and Paint at Westport-Roanoke Community Center
DESCRIPTION:Ages 6 – 10\n$10 \nOpen to children ages 6-10 years old. Children are welcome to come dressed in their Halloween costumes and paint some Halloween portraits while listening to Halloween music and enjoying a cup of cold juice. The cost is $10/per child. \nCall Westport-Roanoke Community Center for more information. (816) 513-7500
URL:https://colemanhighlands.org/event/halloween-punch-and-paint-at-westport-roanoke-community-center/
LOCATION:Westport-Roanoke Community Center\, 3601 Roanoke Rd\, Kansas City\, MO\, 64111\, United States
ATTACH;FMTTYPE=image/jpeg:https://colemanhighlands.org/wp-content/uploads/2024/10/PunchAndPaint.jpg
END:VEVENT
BEGIN:VEVENT
DTSTART;TZID=America/Chicago:20241026T120000
DTEND;TZID=America/Chicago:20241026T140000
DTSTAMP:20260425T094330
CREATED:20241021T164844Z
LAST-MODIFIED:20260317T020216Z
UID:10000281-1729944000-1729951200@colemanhighlands.org
SUMMARY:Halloween Trunk-or-Treat at Westport-Roanoke Community Center
DESCRIPTION:This is a free\, all-ages event. Come trunk hop at the Westport-Roanoke Community Center’s trunk or treat event. See the different trunk designs and enjoy some candy.
URL:https://colemanhighlands.org/event/halloween-trunk-or-treat-at-westport-roanoke-community-center/
LOCATION:Westport-Roanoke Community Center\, 3601 Roanoke Rd\, Kansas City\, MO\, 64111\, United States
ATTACH;FMTTYPE=image/jpeg:https://colemanhighlands.org/wp-content/uploads/2024/10/Trunk-or-Treat.jpg
END:VEVENT
BEGIN:VEVENT
DTSTART;TZID=America/Chicago:20241026T140000
DTEND;TZID=America/Chicago:20241026T160000
DTSTAMP:20260425T094330
CREATED:20241021T165044Z
LAST-MODIFIED:20260317T020146Z
UID:10000282-1729951200-1729958400@colemanhighlands.org
SUMMARY:Costume Party at Westport-Roanoke Community Center
DESCRIPTION:Put on scariest or not so scary costume and come participate in Westport-Roanoke’s very own costume party! There will be activities and snacks. At the end there will be a costume competition and the winner will get a prize.
URL:https://colemanhighlands.org/event/costume-party-at-westport-roanoke-community-center/
LOCATION:Westport-Roanoke Community Center\, 3601 Roanoke Rd\, Kansas City\, MO\, 64111\, United States
ATTACH;FMTTYPE=image/jpeg:https://colemanhighlands.org/wp-content/uploads/2021/10/Pre-Halloween.jpg
END:VEVENT
BEGIN:VEVENT
DTSTART;TZID=America/Chicago:20241028T180000
DTEND;TZID=America/Chicago:20241028T200000
DTSTAMP:20260425T094330
CREATED:20241021T165841Z
LAST-MODIFIED:20260317T020142Z
UID:10000284-1730138400-1730145600@colemanhighlands.org
SUMMARY:Mobile Music Box Concert in Roanoke Park
DESCRIPTION:Bring a lawnchair and picnic and soak up the delightful sounds of your Kansas City Symphony in this FREE concert on the Mobile Music Box stage. All concerts are presented weather permitting. If rain or temperatures under 60 degrees are in the forecast\, be sure to check back here and on our website for the latest schedule updates. \nAll concerts are presented weather permitting. If rain or temperatures under 60 degrees are in the forecast\, be sure to check back here and on our website for the latest schedule updates. \nThis event sponsored by Kissick Construction.
URL:https://colemanhighlands.org/event/mobile-music-box-concert-in-roanoke-park/
LOCATION:Roanoke Park
ATTACH;FMTTYPE=image/jpeg:https://colemanhighlands.org/wp-content/uploads/2024/10/MMB-Gillham-Park-scaled-1.jpg
END:VEVENT
BEGIN:VEVENT
DTSTART;TZID=America/Chicago:20241029T170000
DTEND;TZID=America/Chicago:20241029T190000
DTSTAMP:20260425T094330
CREATED:20241021T170853Z
LAST-MODIFIED:20260317T020137Z
UID:10000285-1730221200-1730228400@colemanhighlands.org
SUMMARY:Westside Trunk-or-Treat and Fall Festival
DESCRIPTION:Bring the whole family to celebrate the season in spooktacular style! Join TACC and Westside CAN Center for an evening of festive activities and community connection. There’s something for every little ghoul\, friendly witch\, or courageous superhero! This is a drop-in event\, no registration is required.
URL:https://colemanhighlands.org/event/westside-trunk-or-treat-and-fall-festival/
LOCATION:Tony Aguirre Community Center\, 2050 W. Pennway\, Kansas City\, MO\, 64108\, United States
ATTACH;FMTTYPE=image/webp:https://colemanhighlands.org/wp-content/uploads/2024/10/FallFestivalTrickOrTreatSM.webp
GEO:39.088237;-94.59547
X-APPLE-STRUCTURED-LOCATION;VALUE=URI;X-ADDRESS=Tony Aguirre Community Center 2050 W. Pennway Kansas City MO 64108 United States;X-APPLE-RADIUS=500;X-TITLE=2050 W. Pennway:geo:-94.59547,39.088237
END:VEVENT
BEGIN:VEVENT
DTSTART;TZID=America/Chicago:20241029T180000
DTEND;TZID=America/Chicago:20241029T200000
DTSTAMP:20260425T094330
CREATED:20241021T165307Z
LAST-MODIFIED:20260317T020131Z
UID:10000283-1730224800-1730232000@colemanhighlands.org
SUMMARY:Westport Ghoul House at Westport-Roanoke Community Center
DESCRIPTION:Bring your family out to our haunted house! Children are encouraged to wear their Halloween costumes for this hair-raising event. Visitors will be sent home with chills down their spine and a goodie bag. Cost is $5/per person.
URL:https://colemanhighlands.org/event/westport-ghoul-house-at-westport-roanoke-community-center/
LOCATION:Westport-Roanoke Community Center\, 3601 Roanoke Rd\, Kansas City\, MO\, 64111\, United States
ATTACH;FMTTYPE=image/jpeg:https://colemanhighlands.org/wp-content/uploads/2024/10/Halloween-Wallpaper.jpg
END:VEVENT
END:VCALENDAR