BEGIN:VCALENDAR
VERSION:2.0
PRODID:-//Coleman Highlands - ECPv6.15.18//NONSGML v1.0//EN
CALSCALE:GREGORIAN
METHOD:PUBLISH
X-WR-CALNAME:Coleman Highlands
X-ORIGINAL-URL:https://colemanhighlands.org
X-WR-CALDESC:Events for Coleman Highlands
REFRESH-INTERVAL;VALUE=DURATION:PT1H
X-Robots-Tag:noindex
X-PUBLISHED-TTL:PT1H
BEGIN:VTIMEZONE
TZID:America/Chicago
BEGIN:DAYLIGHT
TZOFFSETFROM:-0600
TZOFFSETTO:-0500
TZNAME:CDT
DTSTART:20230312T080000
END:DAYLIGHT
BEGIN:STANDARD
TZOFFSETFROM:-0500
TZOFFSETTO:-0600
TZNAME:CST
DTSTART:20231105T070000
END:STANDARD
BEGIN:DAYLIGHT
TZOFFSETFROM:-0600
TZOFFSETTO:-0500
TZNAME:CDT
DTSTART:20240310T080000
END:DAYLIGHT
BEGIN:STANDARD
TZOFFSETFROM:-0500
TZOFFSETTO:-0600
TZNAME:CST
DTSTART:20241103T070000
END:STANDARD
BEGIN:DAYLIGHT
TZOFFSETFROM:-0600
TZOFFSETTO:-0500
TZNAME:CDT
DTSTART:20250309T080000
END:DAYLIGHT
BEGIN:STANDARD
TZOFFSETFROM:-0500
TZOFFSETTO:-0600
TZNAME:CST
DTSTART:20251102T070000
END:STANDARD
END:VTIMEZONE
BEGIN:VEVENT
DTSTART;VALUE=DATE:20241216
DTEND;VALUE=DATE:20241217
DTSTAMP:20260425T064614
CREATED:20241021T181827Z
LAST-MODIFIED:20250310T182313Z
UID:10000289-1734307200-1734393599@colemanhighlands.org
SUMMARY:Curbside Leaf & Brush Pickup Winter 2024
DESCRIPTION:Up to 20 sacks/bundles of leaves & brush will be collected from each household \nBranches up to 3” diameter\, Bundles maximum 4 ft long and 2 ft diameter\, Max 40 lbs \nNo grass clippings\, no trash\, no plastic bags or plastic tapes or plastic ropes \nIn case of rain\, cover your yard waste with a tarp
URL:https://colemanhighlands.org/event/curbside-leaf-brush-pickup-winter-2024/
ATTACH;FMTTYPE=image/jpeg:https://colemanhighlands.org/wp-content/uploads/2015/03/1024px-Leaf_rake_and_leaves.jpg
END:VEVENT
BEGIN:VEVENT
DTSTART;VALUE=DATE:20241224
DTEND;VALUE=DATE:20241225
DTSTAMP:20260425T064614
CREATED:20240312T172316Z
LAST-MODIFIED:20240312T172316Z
UID:10000271-1734998400-1735084799@colemanhighlands.org
SUMMARY:Luminarias 2024
DESCRIPTION:
URL:https://colemanhighlands.org/event/luminarias-2024/
ATTACH;FMTTYPE=image/jpeg:https://colemanhighlands.org/wp-content/uploads/2024/03/luminarias-2024.jpeg
END:VEVENT
END:VCALENDAR