BEGIN:VCALENDAR
VERSION:2.0
PRODID:-//Coleman Highlands - ECPv6.15.18//NONSGML v1.0//EN
CALSCALE:GREGORIAN
METHOD:PUBLISH
X-WR-CALNAME:Coleman Highlands
X-ORIGINAL-URL:https://colemanhighlands.org
X-WR-CALDESC:Events for Coleman Highlands
REFRESH-INTERVAL;VALUE=DURATION:PT1H
X-Robots-Tag:noindex
X-PUBLISHED-TTL:PT1H
BEGIN:VTIMEZONE
TZID:America/Chicago
BEGIN:DAYLIGHT
TZOFFSETFROM:-0600
TZOFFSETTO:-0500
TZNAME:CDT
DTSTART:20240310T080000
END:DAYLIGHT
BEGIN:STANDARD
TZOFFSETFROM:-0500
TZOFFSETTO:-0600
TZNAME:CST
DTSTART:20241103T070000
END:STANDARD
BEGIN:DAYLIGHT
TZOFFSETFROM:-0600
TZOFFSETTO:-0500
TZNAME:CDT
DTSTART:20250309T080000
END:DAYLIGHT
BEGIN:STANDARD
TZOFFSETFROM:-0500
TZOFFSETTO:-0600
TZNAME:CST
DTSTART:20251102T070000
END:STANDARD
BEGIN:DAYLIGHT
TZOFFSETFROM:-0600
TZOFFSETTO:-0500
TZNAME:CDT
DTSTART:20260308T080000
END:DAYLIGHT
BEGIN:STANDARD
TZOFFSETFROM:-0500
TZOFFSETTO:-0600
TZNAME:CST
DTSTART:20261101T070000
END:STANDARD
END:VTIMEZONE
BEGIN:VEVENT
DTSTART;VALUE=DATE:20250614
DTEND;VALUE=DATE:20250615
DTSTAMP:20260424T215319
CREATED:20250228T184209Z
LAST-MODIFIED:20250716T183928Z
UID:10000278-1749859200-1749945599@colemanhighlands.org
SUMMARY:Coleman Highlands Neighborhood Yard Sales
DESCRIPTION:Saturday\, June 14th is the date for this year’s neighborhood yard sales. If you’d like your address to be listed here\, on social media\, and in our June newsletter as a participating location\, please contact us! We’ll have red signs up and down Karnes a few days before June 14th announcing the upcoming yard sales\, but feel free to put up your own signs indicating your specific sale address. \nParticipating Addresses\nThe following addresses have confirmed that they’ll be participating in the neighborhood yard sale on Saturday\, June 14th. Some residents may be holding their yard sales for longer than just Saturday and may have different “operating hours”. So make sure to cruise the neighborhood for individual sale signs for details. \n944 West 32nd Ter\n3405 Karnes Blvd\n918 w 34th St\n928 W 32nd Ter \n942 W 32nd Ter \nRules for Participation\nThere’s no rules. Just have a yard sale on Saturday. You can start your yard sale Friday and run it through Sunday if you want to\, but the official date of the Neighborhood Yard Sale is Saturday\, June 14th. You can run your any hours that work for you! Standard yard sale hours seems to be in that 9-5 range\, but we’re not making any laws about what hours you can run your own yard sale – everyone’s got busy lives and have their own schedules they need to work with. ☺️ \nA couple recommendations:\n\nTo ensure good foot traffic\, please put signs out with your address\, dates\, and hours of your sale.\nPost on social media\, Nextdoor\, etc for more reach (you can share our page’s post if that’s easiest).\n\nDonating Leftover Yard Sale Items\nThere are many local charities that would love to receive your donations! Below are just a few. \nRedemptorist Center: Free Curbside Pickup of Clothing\, Household Goods\, Toys\, Books\, Furniture\, etc.\nThis year Coleman Highlands Neighborhood is partnering with Redemptorist Center for curbside donation pickup. If you have leftover items you’d like to donate after the yard sales are over on Saturday\, you may place them at the curb and label them “Redemptorist Center Donation.” The Redemptorist Center will send a van to collect donations. The center will take just about anything usable that you would like to donate—clothes\, household items\, furniture\, toys\, books\, etc. \nFlourish: Furniture Bank\nFlourish offers free furniture for low income families. They do charge for furniture pickup because the furniture they provide to families is given to those families free of charge\, so they do need to offset the costs of vehicle maintenance and furniture transport. Find out more about Flourish and how to schedule a pickup. \nScraps KC: Arts and Crafts Supplies\nOur friendly neighborhood crafting thrift store down on Roanoke\, Scraps KC\, takes donations of any usable craft items. Art and fabric paints\, brushes\, screen printing supplies\, yarn\, fabric\, papers and canvases\, drawing supplies\, woodworking tools and supplies\, office supplies\, classroom supplies for teachers\, and more! You’ll have to deliver these to Scraps\, but it IS just down the way and if you need help getting stuff there\, please contact the Coleman Highlands Board and one of us will be happy to help you deliver. \nHabitat Restore KC: Home Improvement Items\nHabitat Restore KC will take donations of building materials\, fixtures\, and appliances in good working condition\, as well as furniture\, interior and exterior paints\, and hardscaping/landscaping materials like pavers\, garden edging\, lawn decor and statuary\, etc. You can schedule a free pickup or drop items off at one of the local Restore locations (the Deramus location is probably the closest\, and that’s also around the corner from both household hazardous waste drop-off\, one of our recycling centers\, and also the Missouri Organic leaf and brush drop-off\, so if you’ve got a lot to get rid of after your yard sale\, you can do it all in one trip).
URL:https://colemanhighlands.org/event/coleman-highlands-neighborhood-yard-sales/
ATTACH;FMTTYPE=image/jpeg:https://colemanhighlands.org/wp-content/uploads/2024/05/Midtown-yard-sale.jpeg
END:VEVENT
BEGIN:VEVENT
DTSTART;TZID=America/Chicago:20250618T183000
DTEND;TZID=America/Chicago:20250618T193000
DTSTAMP:20260424T215319
CREATED:20250301T190736Z
LAST-MODIFIED:20250716T183923Z
UID:10000294-1750271400-1750275000@colemanhighlands.org
SUMMARY:June 2025 CHNA Meeting
DESCRIPTION:[vc_row][vc_column][vc_column_text css=””]This month’s meeting will be held in person at Westport-Roanoke Community Center from 6:30 – 7:30 pm. \nAll are welcome to attend![/vc_column_text][/vc_column][/vc_row]
URL:https://colemanhighlands.org/event/june-2025-chna-meeting/
ATTACH;FMTTYPE=image/jpeg:https://colemanhighlands.org/wp-content/uploads/2025/02/June-2025-CNHA-Meetings.jpeg
END:VEVENT
BEGIN:VEVENT
DTSTART;TZID=America/Chicago:20250628T080000
DTEND;TZID=America/Chicago:20250628T120000
DTSTAMP:20260424T215319
CREATED:20250302T195104Z
LAST-MODIFIED:20250716T183919Z
UID:10000297-1751097600-1751112000@colemanhighlands.org
SUMMARY:Spring Dumpster Day 2025
DESCRIPTION:From 8 AM – Noon\, Saturday June 28th\, four dumpsters will be available to neighborhood residents.  Two will be designated for trash and two designated for yard waste.\nLOCATION\nAll dumpsters will be located at 32nd Terrace and West Coleman Road. \nPROHIBITED ITEMS\n\nTires\nHousehold Hazardous Waste (paint\, oil\, chemicals\, pesticides)\nWater Heaters\nFlourescent Lights (including CFLs)\nRefrigerators\nE-Waste (monitors\, computers\, household electronic items with internal compornents like mercury and other heavy metals)\nPlastic bags are not permitted in the leaf and brush dumpsters\n\nREMEMBER\n\nSign in with a volunteer.\nSet potentially reusable items and scrap metal on the curb next to trash dumpsters for our local scrappers.\nRECYCLE CARDBOARD AT THE CURB. Don’t bring it to the dumpster\, please.\nYou can pay your dues for 2023 to a volunteer if you haven’t already for this year!
URL:https://colemanhighlands.org/event/spring-dumpster-day-2025/
ATTACH;FMTTYPE=image/jpeg:https://colemanhighlands.org/wp-content/uploads/2025/02/2025-dumpster-day.jpeg
END:VEVENT
END:VCALENDAR