BEGIN:VCALENDAR
VERSION:2.0
PRODID:-//Coleman Highlands - ECPv6.15.18//NONSGML v1.0//EN
CALSCALE:GREGORIAN
METHOD:PUBLISH
X-ORIGINAL-URL:https://colemanhighlands.org
X-WR-CALDESC:Events for Coleman Highlands
REFRESH-INTERVAL;VALUE=DURATION:PT1H
X-Robots-Tag:noindex
X-PUBLISHED-TTL:PT1H
BEGIN:VTIMEZONE
TZID:America/Chicago
BEGIN:DAYLIGHT
TZOFFSETFROM:-0600
TZOFFSETTO:-0500
TZNAME:CDT
DTSTART:20240310T080000
END:DAYLIGHT
BEGIN:STANDARD
TZOFFSETFROM:-0500
TZOFFSETTO:-0600
TZNAME:CST
DTSTART:20241103T070000
END:STANDARD
BEGIN:DAYLIGHT
TZOFFSETFROM:-0600
TZOFFSETTO:-0500
TZNAME:CDT
DTSTART:20250309T080000
END:DAYLIGHT
BEGIN:STANDARD
TZOFFSETFROM:-0500
TZOFFSETTO:-0600
TZNAME:CST
DTSTART:20251102T070000
END:STANDARD
BEGIN:DAYLIGHT
TZOFFSETFROM:-0600
TZOFFSETTO:-0500
TZNAME:CDT
DTSTART:20260308T080000
END:DAYLIGHT
BEGIN:STANDARD
TZOFFSETFROM:-0500
TZOFFSETTO:-0600
TZNAME:CST
DTSTART:20261101T070000
END:STANDARD
END:VTIMEZONE
BEGIN:VEVENT
DTSTART;VALUE=DATE:20251011
DTEND;VALUE=DATE:20251012
DTSTAMP:20260424T161412
CREATED:20250908T160945Z
LAST-MODIFIED:20260317T020055Z
UID:10000308-1760140800-1760227199@colemanhighlands.org
SUMMARY:Around the World Fall Porch Parties
DESCRIPTION:[vc_row][vc_column][vc_column_text css=””]This annual (usually) event\, started by neighbor Amy Bhesania\, celebrates the diversity of our neighborhood. Each year\, four homes volunteer to open up their porches (or sometimes driveways\, backyards\, etc) to the neighborhood as hosts of roving culinary festivities. Hosts serve light snacks and a signature beverage based on the cuisine of a country of their choosing. \nWe’ve had Germany\, Greece\, Viet Nam\, France\, Mexico\, England and many other countries represented for past porch parties. Please stay tuned over the coming weeks for announcements on participating homes\, start and end times\, and countries represented for this year. \nHope to see you there![/vc_column_text][/vc_column][/vc_row]
URL:https://colemanhighlands.org/event/around-the-world-fall-porch-parties/
ATTACH;FMTTYPE=image/jpeg:https://colemanhighlands.org/wp-content/uploads/2025/09/InternationalFlags.jpg
END:VEVENT
BEGIN:VEVENT
DTSTART;TZID=America/Chicago:20251015T183000
DTEND;TZID=America/Chicago:20251015T193000
DTSTAMP:20260424T161412
CREATED:20250227T200829Z
LAST-MODIFIED:20260317T020059Z
UID:10000301-1760553000-1760556600@colemanhighlands.org
SUMMARY:Annual CHNA Meeting 2025
DESCRIPTION:[vc_row][vc_column][vc_column_text css=””]Our annual meeting will be held at Westport-Roanoke Community Center at 6:30pm\, Wednesday\, October 15th. We will be electing new folks to the Board of Directors\, should anyone wish to join. It’s also a great way to get involved\, get better acquainted with your neighbors\, and learn more about your community. Hope to see you there! \nAll are welcome to attend![/vc_column_text][/vc_column][/vc_row]
URL:https://colemanhighlands.org/event/october-2025-chna-meeting/
LOCATION:Westport-Roanoke Community Center\, 3601 Roanoke Rd\, Kansas City\, MO\, 64111\, United States
ATTACH;FMTTYPE=image/jpeg:https://colemanhighlands.org/wp-content/uploads/2025/02/Oct-2025-CHNA.jpeg
END:VEVENT
BEGIN:VEVENT
DTSTART;TZID=America/Chicago:20251017T180000
DTEND;TZID=America/Chicago:20251017T200000
DTSTAMP:20260424T161412
CREATED:20250909T180313Z
LAST-MODIFIED:20260317T020045Z
UID:10000307-1760724000-1760731200@colemanhighlands.org
SUMMARY:Ghouls' Night Out at Westport-Roanoke Community Center
DESCRIPTION:[vc_row][vc_column][vc_column_text css=””] \nGet into the spooky spirit by dressing in your best costume and see if you live to tell the tale of the Ghouls Night Out! Kids can safely trick or treat along the trail\, show off their costume in the parade\, play gruesome games\, and enter the Ghoul House if they dare. \nActivities include a bouncy house\, bobbing for pumpkins\, fossil dig\, pumpkin painting\, and more! \nAll activities are free except for the Ghoul House. The Ghoul House is $5/person and can be bought in advance or day of. Purchase tickets here by going to the Special Events tab and add the ticket. \n6 p.m. | Event Starts \n7 p.m. | Costume Parade \n[/vc_column_text][/vc_column][/vc_row]
URL:https://colemanhighlands.org/event/ghouls-night-out-at-westport-roanoke-community-center/
LOCATION:Westport-Roanoke Community Center\, 3601 Roanoke Rd\, Kansas City\, MO\, 64111\, United States
ATTACH;FMTTYPE=image/png:https://colemanhighlands.org/wp-content/uploads/2025/09/Ghouls-night-out-web-banner.png
END:VEVENT
BEGIN:VEVENT
DTSTART;TZID=America/Chicago:20251025T080000
DTEND;TZID=America/Chicago:20251025T120000
DTSTAMP:20260424T161412
CREATED:20250227T201817Z
LAST-MODIFIED:20260317T020039Z
UID:10000303-1761379200-1761393600@colemanhighlands.org
SUMMARY:Fall Dumpster Day 2025
DESCRIPTION:From 8 AM – Noon\, Saturday October 25th\, six dumpsters will be available to neighborhood residents.  Three will be designated for trash and three designated for yard waste.\nLOCATION\nAll dumpsters will be located at 32nd Terrace and West Coleman Road. \nPROHIBITED ITEMS\n\nTires\nHousehold Hazardous Waste (paint\, oil\, chemicals\, pesticides)\nWater Heaters\nFlourescent Lights (including CFLs)\nRefrigerators\nE-Waste (monitors\, computers\, household electronic items with internal compornents like mercury and other heavy metals)\nPlastic bags are not permitted in the leaf and brush dumpsters\n\nREMEMBER\n\nSign in with a volunteer.\nSet potentially reusable items and scrap metal on the curb next to trash dumpsters for our local scrappers.\nRECYCLE CARDBOARD AT THE CURB ON REGULAR TRASH DAY. Don’t bring it to the dumpster\, please.\nHaven’t paid your dues this year? Volunteers will be available to accept dues checks\, cash\, Venmo\, PayPal\, or you can pay online. Please make checks out to Coleman Highlands Neighborhood Association. Suggested dues are $50.
URL:https://colemanhighlands.org/event/fall-dumpster-day-2025/
ATTACH;FMTTYPE=image/jpeg:https://colemanhighlands.org/wp-content/uploads/2025/02/fall-2025-dumpster.jpeg
END:VEVENT
END:VCALENDAR